BEGIN:VCALENDAR
VERSION:2.0
PRODID:-//The Burm - ECPv6.15.20//NONSGML v1.0//EN
CALSCALE:GREGORIAN
METHOD:PUBLISH
X-WR-CALNAME:The Burm
X-ORIGINAL-URL:https://theburm.com
X-WR-CALDESC:Events for The Burm
REFRESH-INTERVAL;VALUE=DURATION:PT1H
X-Robots-Tag:noindex
X-PUBLISHED-TTL:PT1H
BEGIN:VTIMEZONE
TZID:Europe/London
BEGIN:DAYLIGHT
TZOFFSETFROM:+0000
TZOFFSETTO:+0100
TZNAME:BST
DTSTART:20240331T010000
END:DAYLIGHT
BEGIN:STANDARD
TZOFFSETFROM:+0100
TZOFFSETTO:+0000
TZNAME:GMT
DTSTART:20241027T010000
END:STANDARD
BEGIN:DAYLIGHT
TZOFFSETFROM:+0000
TZOFFSETTO:+0100
TZNAME:BST
DTSTART:20250330T010000
END:DAYLIGHT
BEGIN:STANDARD
TZOFFSETFROM:+0100
TZOFFSETTO:+0000
TZNAME:GMT
DTSTART:20251026T010000
END:STANDARD
BEGIN:DAYLIGHT
TZOFFSETFROM:+0000
TZOFFSETTO:+0100
TZNAME:BST
DTSTART:20260329T010000
END:DAYLIGHT
BEGIN:STANDARD
TZOFFSETFROM:+0100
TZOFFSETTO:+0000
TZNAME:GMT
DTSTART:20261025T010000
END:STANDARD
END:VTIMEZONE
BEGIN:VEVENT
DTSTART;VALUE=DATE:20250719
DTEND;VALUE=DATE:20250720
DTSTAMP:20260421T062643
CREATED:20260301T221021Z
LAST-MODIFIED:20260301T221021Z
UID:10000233-1752883200-1752969599@theburm.com
SUMMARY:South Regional Round 6 - Runnymede
DESCRIPTION:South Regional Round 6 – Runnymede
URL:https://theburm.com/races/south-regional-round-6-runnymede/
LOCATION:Runnymede Rockets BMX Club\, Runneymede Rockets BMX Track Addlestone Moor\, Addlestone\, KT15 2QL\, United Kingdom
CATEGORIES:South
ATTACH;FMTTYPE=image/png:https://theburm.com/wp-content/uploads/2025/04/South-East-BMX-Region-e1744969395703-6U2lhB.tmp_.png
ORGANIZER;CN="South Region":MAILTO:southregionbmx@aol.com
END:VEVENT
BEGIN:VEVENT
DTSTART;TZID=Europe/London:20250601T090000
DTEND;TZID=Europe/London:20250601T170000
DTSTAMP:20260421T062643
CREATED:20250418T100235Z
LAST-MODIFIED:20250418T102326Z
UID:10000047-1748768400-1748797200@theburm.com
SUMMARY:South BMX Round 5 - Runnymede
DESCRIPTION:South Region BMX Summer Series – Let’s Race in 2025!\n📣 Welcome back to another awesome season of BMX action in the South Region! We’re excited to bring you NINE rounds of racing fun in 2025 — open to riders of all ages and skill levels. Come for the racing\, stay for the vibes. 🚴‍♀️🔥 \n🗓 Mark your calendar and get ready to gate up!🏁 Just 5 races are needed to qualify for the 2025 British BMX Championships at Cyclopark this August Bank Holiday! \n🧠 Essential Info – Read This\, Rider!\n✅ Tech Guide:\nClick here for all the details \n✅ Registration:\nEnter via British Cycling \n🕚 Closes: Thursday before race day at 11:55 PM\n⛔ No entry on the day — get in early! \n✅ Transponders ARE Mandatory: \nMust be MyLaps and activated before race day \nNo hires available at South Region rounds \nExpert practice will take place from 0900-1100 and will be split into 12 & Under and 13+ as follows:\n0900-0930 12 & Under open practice\n0930-1000 13+ open practice\n1000-1030 12 & Under gate practice\n1030-1100 13+ gate practice \n✅ BC Membership: \nValid British Cycling membership required \nA Race Licence is highly recommended \n✅ Payback Prizes: \nDirect bank transfer only — no cash\, no fuss \n📊 Results & Updates\n🔢 Results on Sqorz \n📢 Event Updates & News:\nSouth Region BMX Facebook \n🎟 Ready to Race?\nOnline entry is LIVE now! Don’t miss out — register before 11:55pm every Thursday before race day!
URL:https://theburm.com/races/south-bmx-round-5-runnymede/
LOCATION:Runnymede Rockets BMX Club\, Runneymede Rockets BMX Track Addlestone Moor\, Addlestone\, KT15 2QL\, United Kingdom
CATEGORIES:Runnymede BMX,South
ATTACH;FMTTYPE=image/png:https://theburm.com/wp-content/uploads/2025/04/South-East-BMX-Region-e1744969395703-6U2lhB.tmp_.png
ORGANIZER;CN="South Region":MAILTO:southregionbmx@aol.com
END:VEVENT
END:VCALENDAR