BEGIN:VCALENDAR
VERSION:2.0
PRODID:-//The Burm - ECPv6.15.20//NONSGML v1.0//EN
CALSCALE:GREGORIAN
METHOD:PUBLISH
X-WR-CALNAME:The Burm
X-ORIGINAL-URL:https://theburm.com
X-WR-CALDESC:Events for The Burm
REFRESH-INTERVAL;VALUE=DURATION:PT1H
X-Robots-Tag:noindex
X-PUBLISHED-TTL:PT1H
BEGIN:VTIMEZONE
TZID:Europe/London
BEGIN:DAYLIGHT
TZOFFSETFROM:+0000
TZOFFSETTO:+0100
TZNAME:BST
DTSTART:20240331T010000
END:DAYLIGHT
BEGIN:STANDARD
TZOFFSETFROM:+0100
TZOFFSETTO:+0000
TZNAME:GMT
DTSTART:20241027T010000
END:STANDARD
BEGIN:DAYLIGHT
TZOFFSETFROM:+0000
TZOFFSETTO:+0100
TZNAME:BST
DTSTART:20250330T010000
END:DAYLIGHT
BEGIN:STANDARD
TZOFFSETFROM:+0100
TZOFFSETTO:+0000
TZNAME:GMT
DTSTART:20251026T010000
END:STANDARD
BEGIN:DAYLIGHT
TZOFFSETFROM:+0000
TZOFFSETTO:+0100
TZNAME:BST
DTSTART:20260329T010000
END:DAYLIGHT
BEGIN:STANDARD
TZOFFSETFROM:+0100
TZOFFSETTO:+0000
TZNAME:GMT
DTSTART:20261025T010000
END:STANDARD
END:VTIMEZONE
BEGIN:VEVENT
DTSTART;TZID=Europe/London:20250913T090000
DTEND;TZID=Europe/London:20250913T170000
DTSTAMP:20260421T103145
CREATED:20250408T230954Z
LAST-MODIFIED:20250408T233239Z
UID:10000019-1757754000-1757782800@theburm.com
SUMMARY:Midlands Region: 2025 Summer Series - Midlands Champships - Derby
DESCRIPTION:
URL:https://theburm.com/races/midlands-region-2025-summer-series-midlands-champships-derby/
LOCATION:Derby BMX Club\, Alvaston Park BMX Track Alvaston\, Derby\, DE24 8FD\, United Kingdom
CATEGORIES:Derby BMX Club,Midlands
ATTACH;FMTTYPE=image/jpeg:https://theburm.com/wp-content/uploads/2025/03/2025-03-17_17-29-06-e1744833945107.jpg
END:VEVENT
BEGIN:VEVENT
DTSTART;VALUE=DATE:20250712
DTEND;VALUE=DATE:20250713
DTSTAMP:20260421T103145
CREATED:20260301T220725Z
LAST-MODIFIED:20260301T220725Z
UID:10000228-1752278400-1752364799@theburm.com
SUMMARY:Midlands Regional Round 7 - Derby
DESCRIPTION:Midlands Regional Round 7 – Derby
URL:https://theburm.com/races/midlands-regional-round-7-derby/
LOCATION:Derby BMX Club\, Alvaston Park BMX Track Alvaston\, Derby\, DE24 8FD\, United Kingdom
ATTACH;FMTTYPE=image/jpeg:https://theburm.com/wp-content/uploads/2026/03/2025-03-17_17-29-06-e1744833945107-PTz5FM.jpg
END:VEVENT
END:VCALENDAR