BEGIN:VCALENDAR
VERSION:2.0
PRODID:-//The Burm - ECPv6.15.20//NONSGML v1.0//EN
CALSCALE:GREGORIAN
METHOD:PUBLISH
X-WR-CALNAME:The Burm
X-ORIGINAL-URL:https://theburm.com
X-WR-CALDESC:Events for The Burm
REFRESH-INTERVAL;VALUE=DURATION:PT1H
X-Robots-Tag:noindex
X-PUBLISHED-TTL:PT1H
BEGIN:VTIMEZONE
TZID:Europe/London
BEGIN:DAYLIGHT
TZOFFSETFROM:+0000
TZOFFSETTO:+0100
TZNAME:BST
DTSTART:20250330T010000
END:DAYLIGHT
BEGIN:STANDARD
TZOFFSETFROM:+0100
TZOFFSETTO:+0000
TZNAME:GMT
DTSTART:20251026T010000
END:STANDARD
BEGIN:DAYLIGHT
TZOFFSETFROM:+0000
TZOFFSETTO:+0100
TZNAME:BST
DTSTART:20260329T010000
END:DAYLIGHT
BEGIN:STANDARD
TZOFFSETFROM:+0100
TZOFFSETTO:+0000
TZNAME:GMT
DTSTART:20261025T010000
END:STANDARD
BEGIN:DAYLIGHT
TZOFFSETFROM:+0000
TZOFFSETTO:+0100
TZNAME:BST
DTSTART:20270328T010000
END:DAYLIGHT
BEGIN:STANDARD
TZOFFSETFROM:+0100
TZOFFSETTO:+0000
TZNAME:GMT
DTSTART:20271031T010000
END:STANDARD
END:VTIMEZONE
BEGIN:VEVENT
DTSTART;VALUE=DATE:20260621
DTEND;VALUE=DATE:20260622
DTSTAMP:20260421T103812
CREATED:20260302T190832Z
LAST-MODIFIED:20260302T190832Z
UID:10000264-1782000000-1782086399@theburm.com
SUMMARY:EA BMX Regional Round 6 - Braintree
DESCRIPTION:East Regional Round 6 – Braintree
URL:https://theburm.com/races/ea-bmx-regional-round-6-braintree-2/
LOCATION:Braintree BMX Club\, Braintree BMX Track\, Braintree \, Essex\, CM7 5TE\, United Kingdom
CATEGORIES:EA BMX
ATTACH;FMTTYPE=image/png:https://theburm.com/wp-content/uploads/2025/03/EA-Region.png
END:VEVENT
END:VCALENDAR