BEGIN:VCALENDAR
VERSION:2.0
PRODID:-//The Burm - ECPv6.15.20//NONSGML v1.0//EN
CALSCALE:GREGORIAN
METHOD:PUBLISH
X-ORIGINAL-URL:https://theburm.com
X-WR-CALDESC:Events for The Burm
REFRESH-INTERVAL;VALUE=DURATION:PT1H
X-Robots-Tag:noindex
X-PUBLISHED-TTL:PT1H
BEGIN:VTIMEZONE
TZID:Europe/London
BEGIN:DAYLIGHT
TZOFFSETFROM:+0000
TZOFFSETTO:+0100
TZNAME:BST
DTSTART:20240331T010000
END:DAYLIGHT
BEGIN:STANDARD
TZOFFSETFROM:+0100
TZOFFSETTO:+0000
TZNAME:GMT
DTSTART:20241027T010000
END:STANDARD
BEGIN:DAYLIGHT
TZOFFSETFROM:+0000
TZOFFSETTO:+0100
TZNAME:BST
DTSTART:20250330T010000
END:DAYLIGHT
BEGIN:STANDARD
TZOFFSETFROM:+0100
TZOFFSETTO:+0000
TZNAME:GMT
DTSTART:20251026T010000
END:STANDARD
BEGIN:DAYLIGHT
TZOFFSETFROM:+0000
TZOFFSETTO:+0100
TZNAME:BST
DTSTART:20260329T010000
END:DAYLIGHT
BEGIN:STANDARD
TZOFFSETFROM:+0100
TZOFFSETTO:+0000
TZNAME:GMT
DTSTART:20261025T010000
END:STANDARD
END:VTIMEZONE
BEGIN:VEVENT
DTSTART;TZID=Europe/London:20250831T170000
DTEND;TZID=Europe/London:20250831T210000
DTSTAMP:20260421T010847
CREATED:20250414T195229Z
LAST-MODIFIED:20250505T205825Z
UID:10000031-1756659600-1756674000@theburm.com
SUMMARY:Bournemouth BMX Summer Series 2025 - Round 6
DESCRIPTION:🔗 Quick Links👉 Register on British Cycling: Click here📊 Live Results on Sqorz: Click here📣 Join our Facebook Group: Click here \n\n🚴‍♂️ Bournemouth BMX Club Summer Series 🌞 \nGet ready for some summer fun on two wheels! The Bournemouth BMX Club Summer Series is here – packed with action\, energy\, and community vibes. It’s the perfect way to keep your race legs spinning and your BMX buzz alive! \nThis is a non-ranking series – so it’s all about fun\, progression\, and riding with your mates. \n👉 Need-to-Know: \n\n\nEnter into your 2025 age group (age as of 31st Dec 2025). \n\n\nClip shoes can only be worn if your age matches your category as of that date. \n\n\nEntries close Thursday at 11pm sharp before each race night – no late entries! \n\n\nOnline entry only via the British Cycling website. \n\n\n📅 Race Night Schedule: \n\n\n🕕 Practice from 6:00pm \n\n\n🚦 Racing starts at 6:45pm \n\n\n📡 Running on our.Sqorz – so make sure you’ve got your transponder ready to go! \n\n\nLet’s make the most of those sunny evenings – fast laps\, loud cheers\, and good vibes guaranteed. See you at the start gate! 🔥🙌
URL:https://theburm.com/races/bournemouth-bmx-summer-series-2025-round-6/
LOCATION:Bournemouth BMX Club\, Bournemouth BMX Track Iford Ln\, Bournemouth\, BH6 5NF\, United Kingdom
CATEGORIES:Bournemouth BMX,South
ATTACH;FMTTYPE=image/png:https://theburm.com/wp-content/uploads/2025/04/Bournemouth-BMX-Club-e1745005955303.png
ORGANIZER;CN="Bournemouth BMX Club":MAILTO:info@bournemouthbmx.co.uk
END:VEVENT
BEGIN:VEVENT
DTSTART;TZID=Europe/London:20250801T170000
DTEND;TZID=Europe/London:20250801T210000
DTSTAMP:20260421T010847
CREATED:20250414T195228Z
LAST-MODIFIED:20250505T205814Z
UID:10000030-1754067600-1754082000@theburm.com
SUMMARY:Bournemouth BMX Summer Series 2025 - Round 5
DESCRIPTION:🔗 Quick Links👉 Register on British Cycling: Click here📊 Live Results on Sqorz: Click here📣 Join our Facebook Group: Click here \n\n🚴‍♂️ Bournemouth BMX Club Summer Series 🌞 \nGet ready for some summer fun on two wheels! The Bournemouth BMX Club Summer Series is here – packed with action\, energy\, and community vibes. It’s the perfect way to keep your race legs spinning and your BMX buzz alive! \nThis is a non-ranking series – so it’s all about fun\, progression\, and riding with your mates. \n👉 Need-to-Know: \n\n\nEnter into your 2025 age group (age as of 31st Dec 2025). \n\n\nClip shoes can only be worn if your age matches your category as of that date. \n\n\nEntries close Thursday at 11pm sharp before each race night – no late entries! \n\n\nOnline entry only via the British Cycling website. \n\n\n📅 Race Night Schedule: \n\n\n🕕 Practice from 6:00pm \n\n\n🚦 Racing starts at 6:45pm \n\n\n📡 Running on our.Sqorz – so make sure you’ve got your transponder ready to go! \n\n\nLet’s make the most of those sunny evenings – fast laps\, loud cheers\, and good vibes guaranteed. See you at the start gate! 🔥🙌
URL:https://theburm.com/races/bournemouth-bmx-summer-series-2025-round-5/
LOCATION:Bournemouth BMX Club\, Bournemouth BMX Track Iford Ln\, Bournemouth\, BH6 5NF\, United Kingdom
CATEGORIES:Bournemouth BMX,South
ATTACH;FMTTYPE=image/png:https://theburm.com/wp-content/uploads/2025/04/Bournemouth-BMX-Club-e1745005955303.png
ORGANIZER;CN="Bournemouth BMX Club":MAILTO:info@bournemouthbmx.co.uk
END:VEVENT
BEGIN:VEVENT
DTSTART;TZID=Europe/London:20250725T170000
DTEND;TZID=Europe/London:20250725T210000
DTSTAMP:20260421T010847
CREATED:20250414T195215Z
LAST-MODIFIED:20250505T205755Z
UID:10000029-1753462800-1753477200@theburm.com
SUMMARY:Bournemouth BMX Summer Series 2025 - Round 4
DESCRIPTION:🔗 Quick Links👉 Register on British Cycling: Click here📊 Live Results on Sqorz: Click here📣 Join our Facebook Group: Click here \n\n🚴‍♂️ Bournemouth BMX Club Summer Series 🌞 \nGet ready for some summer fun on two wheels! The Bournemouth BMX Club Summer Series is here – packed with action\, energy\, and community vibes. It’s the perfect way to keep your race legs spinning and your BMX buzz alive! \nThis is a non-ranking series – so it’s all about fun\, progression\, and riding with your mates. \n👉 Need-to-Know: \n\n\nEnter into your 2025 age group (age as of 31st Dec 2025). \n\n\nClip shoes can only be worn if your age matches your category as of that date. \n\n\nEntries close Thursday at 11pm sharp before each race night – no late entries! \n\n\nOnline entry only via the British Cycling website. \n\n\n📅 Race Night Schedule: \n\n\n🕕 Practice from 6:00pm \n\n\n🚦 Racing starts at 6:45pm \n\n\n📡 Running on our.Sqorz – so make sure you’ve got your transponder ready to go! \n\n\nLet’s make the most of those sunny evenings – fast laps\, loud cheers\, and good vibes guaranteed. See you at the start gate! 🔥🙌
URL:https://theburm.com/races/bournemouth-bmx-summer-series-2025-round-4/
LOCATION:Bournemouth BMX Club\, Bournemouth BMX Track Iford Ln\, Bournemouth\, BH6 5NF\, United Kingdom
CATEGORIES:Bournemouth BMX,South
ATTACH;FMTTYPE=image/png:https://theburm.com/wp-content/uploads/2025/04/Bournemouth-BMX-Club-e1745005955303.png
ORGANIZER;CN="Bournemouth BMX Club":MAILTO:info@bournemouthbmx.co.uk
END:VEVENT
BEGIN:VEVENT
DTSTART;TZID=Europe/London:20250627T170000
DTEND;TZID=Europe/London:20250627T210000
DTSTAMP:20260421T010847
CREATED:20250414T195214Z
LAST-MODIFIED:20250505T205743Z
UID:10000028-1751043600-1751058000@theburm.com
SUMMARY:Bournemouth BMX Summer Series 2025 - Round 3
DESCRIPTION:🔗 Quick Links👉 Register on British Cycling: Click here📊 Live Results on Sqorz: Click here📣 Join our Facebook Group: Click here \n\n🚴‍♂️ Bournemouth BMX Club Summer Series 🌞 \nGet ready for some summer fun on two wheels! The Bournemouth BMX Club Summer Series is here – packed with action\, energy\, and community vibes. It’s the perfect way to keep your race legs spinning and your BMX buzz alive! \nThis is a non-ranking series – so it’s all about fun\, progression\, and riding with your mates. \n👉 Need-to-Know: \n\n\nEnter into your 2025 age group (age as of 31st Dec 2025). \n\n\nClip shoes can only be worn if your age matches your category as of that date. \n\n\nEntries close Thursday at 11pm sharp before each race night – no late entries! \n\n\nOnline entry only via the British Cycling website. \n\n\n📅 Race Night Schedule: \n\n\n🕕 Practice from 6:00pm \n\n\n🚦 Racing starts at 6:45pm \n\n\n📡 Running on our.Sqorz – so make sure you’ve got your transponder ready to go! \n\n\nLet’s make the most of those sunny evenings – fast laps\, loud cheers\, and good vibes guaranteed. See you at the start gate! 🔥🙌
URL:https://theburm.com/races/bournemouth-bmx-summer-series-2025-round-3/
LOCATION:Bournemouth BMX Club\, Bournemouth BMX Track Iford Ln\, Bournemouth\, BH6 5NF\, United Kingdom
CATEGORIES:Bournemouth BMX,South
ATTACH;FMTTYPE=image/png:https://theburm.com/wp-content/uploads/2025/04/Bournemouth-BMX-Club-e1745005955303.png
ORGANIZER;CN="Bournemouth BMX Club":MAILTO:info@bournemouthbmx.co.uk
END:VEVENT
BEGIN:VEVENT
DTSTART;TZID=Europe/London:20250606T170000
DTEND;TZID=Europe/London:20250606T210000
DTSTAMP:20260421T010847
CREATED:20250414T195213Z
LAST-MODIFIED:20250505T205732Z
UID:10000027-1749229200-1749243600@theburm.com
SUMMARY:Bournemouth BMX Summer Series 2025 - Round 2
DESCRIPTION:🔗 Quick Links👉 Register on British Cycling: Click here📊 Live Results on Sqorz: Click here📣 Join our Facebook Group: Click here \n\n🚴‍♂️ Bournemouth BMX Club Summer Series 🌞 \nGet ready for some summer fun on two wheels! The Bournemouth BMX Club Summer Series is here – packed with action\, energy\, and community vibes. It’s the perfect way to keep your race legs spinning and your BMX buzz alive! \nThis is a non-ranking series – so it’s all about fun\, progression\, and riding with your mates. \n👉 Need-to-Know: \n\n\nEnter into your 2025 age group (age as of 31st Dec 2025). \n\n\nClip shoes can only be worn if your age matches your category as of that date. \n\n\nEntries close Thursday at 11pm sharp before each race night – no late entries! \n\n\nOnline entry only via the British Cycling website. \n\n\n📅 Race Night Schedule: \n\n\n🕕 Practice from 6:00pm \n\n\n🚦 Racing starts at 6:45pm \n\n\n📡 Running on our.Sqorz – so make sure you’ve got your transponder ready to go! \n\n\nLet’s make the most of those sunny evenings – fast laps\, loud cheers\, and good vibes guaranteed. See you at the start gate! 🔥🙌
URL:https://theburm.com/races/bournemouth-bmx-summer-series-2025-round-2/
LOCATION:Bournemouth BMX Club\, Bournemouth BMX Track Iford Ln\, Bournemouth\, BH6 5NF\, United Kingdom
CATEGORIES:Bournemouth BMX,South
ATTACH;FMTTYPE=image/png:https://theburm.com/wp-content/uploads/2025/04/Bournemouth-BMX-Club-e1745005955303.png
ORGANIZER;CN="Bournemouth BMX Club":MAILTO:info@bournemouthbmx.co.uk
END:VEVENT
BEGIN:VEVENT
DTSTART;TZID=Europe/London:20250516T170000
DTEND;TZID=Europe/London:20250516T210000
DTSTAMP:20260421T010847
CREATED:20250414T195212Z
LAST-MODIFIED:20250505T205657Z
UID:10000026-1747414800-1747429200@theburm.com
SUMMARY:Bournemouth BMX Summer Series 2025 - Round 1
DESCRIPTION:🔗 Quick Links👉 Register on British Cycling: Click here📊 Live Results on Sqorz: Click here📣 Join our Facebook Group: Click here \n\n🚴‍♂️ Bournemouth BMX Club Summer Series 🌞 \nGet ready for some summer fun on two wheels! The Bournemouth BMX Club Summer Series is here – packed with action\, energy\, and community vibes. It’s the perfect way to keep your race legs spinning and your BMX buzz alive! \nThis is a non-ranking series – so it’s all about fun\, progression\, and riding with your mates. \n👉 Need-to-Know: \n\n\nEnter into your 2025 age group (age as of 31st Dec 2025). \n\n\nClip shoes can only be worn if your age matches your category as of that date. \n\n\nEntries close Thursday at 11pm sharp before each race night – no late entries! \n\n\nOnline entry only via the British Cycling website. \n\n\n📅 Race Night Schedule: \n\n\n🕕 Practice from 6:00pm \n\n\n🚦 Racing starts at 6:45pm \n\n\n📡 Running on our.Sqorz – so make sure you’ve got your transponder ready to go! \n\n\nLet’s make the most of those sunny evenings – fast laps\, loud cheers\, and good vibes guaranteed. See you at the start gate! 🔥🙌
URL:https://theburm.com/races/bournemouth-bmx-summer-series-2025-round-1/
LOCATION:Bournemouth BMX Club\, Bournemouth BMX Track Iford Ln\, Bournemouth\, BH6 5NF\, United Kingdom
CATEGORIES:Bournemouth BMX,South
ATTACH;FMTTYPE=image/png:https://theburm.com/wp-content/uploads/2025/04/Bournemouth-BMX-Club-e1745005955303.png
ORGANIZER;CN="Bournemouth BMX Club":MAILTO:info@bournemouthbmx.co.uk
END:VEVENT
BEGIN:VEVENT
DTSTART;TZID=Europe/London:20250323T090000
DTEND;TZID=Europe/London:20250323T170000
DTSTAMP:20260421T010847
CREATED:20250418T100233Z
LAST-MODIFIED:20250418T102204Z
UID:10000043-1742720400-1742749200@theburm.com
SUMMARY:South BMX Round 1 - Bournemouth
DESCRIPTION:South Region BMX Summer Series – Let’s Race in 2025!\n📣 Welcome back to another awesome season of BMX action in the South Region! We’re excited to bring you NINE rounds of racing fun in 2025 — open to riders of all ages and skill levels. Come for the racing\, stay for the vibes. 🚴‍♀️🔥 \n🗓 Mark your calendar and get ready to gate up!🏁 Just 5 races are needed to qualify for the 2025 British BMX Championships at Cyclopark this August Bank Holiday! \n🧠 Essential Info – Read This\, Rider!\n✅ Tech Guide:\nClick here for all the details \n✅ Registration:\nEnter via British Cycling \n🕚 Closes: Thursday before race day at 11:55 PM\n⛔ No entry on the day — get in early! \n✅ Transponders ARE Mandatory: \nMust be MyLaps and activated before race day \nNo hires available at South Region rounds \nExpert practice will take place from 0900-1100 and will be split into 12 & Under and 13+ as follows:\n0900-0930 12 & Under open practice\n0930-1000 13+ open practice\n1000-1030 12 & Under gate practice\n1030-1100 13+ gate practice \n✅ BC Membership: \nValid British Cycling membership required \nA Race Licence is highly recommended \n✅ Payback Prizes: \nDirect bank transfer only — no cash\, no fuss \n📊 Results & Updates\n🔢 Results on Sqorz \n📢 Event Updates & News:\nSouth Region BMX Facebook \n🎟 Ready to Race?\nOnline entry is LIVE now! Don’t miss out — register before 11:55pm every Thursday before race day!
URL:https://theburm.com/races/south-bmx-round-1-bournemouth/
LOCATION:Bournemouth BMX Club\, Bournemouth BMX Track Iford Ln\, Bournemouth\, BH6 5NF\, United Kingdom
CATEGORIES:Bournemouth BMX,South
ATTACH;FMTTYPE=image/png:https://theburm.com/wp-content/uploads/2025/04/South-East-BMX-Region-e1744969395703-6U2lhB.tmp_.png
ORGANIZER;CN="South Region":MAILTO:southregionbmx@aol.com
END:VEVENT
END:VCALENDAR