BEGIN:VCALENDAR
VERSION:2.0
PRODID:-//The Burm - ECPv6.15.20//NONSGML v1.0//EN
CALSCALE:GREGORIAN
METHOD:PUBLISH
X-WR-CALNAME:The Burm
X-ORIGINAL-URL:https://theburm.com
X-WR-CALDESC:Events for The Burm
REFRESH-INTERVAL;VALUE=DURATION:PT1H
X-Robots-Tag:noindex
X-PUBLISHED-TTL:PT1H
BEGIN:VTIMEZONE
TZID:Europe/London
BEGIN:DAYLIGHT
TZOFFSETFROM:+0000
TZOFFSETTO:+0100
TZNAME:BST
DTSTART:20250330T010000
END:DAYLIGHT
BEGIN:STANDARD
TZOFFSETFROM:+0100
TZOFFSETTO:+0000
TZNAME:GMT
DTSTART:20251026T010000
END:STANDARD
BEGIN:DAYLIGHT
TZOFFSETFROM:+0000
TZOFFSETTO:+0100
TZNAME:BST
DTSTART:20260329T010000
END:DAYLIGHT
BEGIN:STANDARD
TZOFFSETFROM:+0100
TZOFFSETTO:+0000
TZNAME:GMT
DTSTART:20261025T010000
END:STANDARD
BEGIN:DAYLIGHT
TZOFFSETFROM:+0000
TZOFFSETTO:+0100
TZNAME:BST
DTSTART:20270328T010000
END:DAYLIGHT
BEGIN:STANDARD
TZOFFSETFROM:+0100
TZOFFSETTO:+0000
TZNAME:GMT
DTSTART:20271031T010000
END:STANDARD
END:VTIMEZONE
BEGIN:VEVENT
DTSTART;VALUE=DATE:20260510
DTEND;VALUE=DATE:20260511
DTSTAMP:20260421T131540
CREATED:20260302T182851Z
LAST-MODIFIED:20260302T182851Z
UID:10000244-1778371200-1778457599@theburm.com
SUMMARY:South West Regional Round 4 - Llynfi
DESCRIPTION:SW Regional Round 4 – Llynfi
URL:https://theburm.com/races/south-west-regional-round-4-llynfi-8/
LOCATION:Llynfi BMX Racing Club\, Llynfi BMX Racing Club Former Coegnant Colliery Site\, Coegnant Rd\, Maesteg\, CF34 0TN\, United Kingdom
ATTACH;FMTTYPE=image/png:https://theburm.com/wp-content/uploads/2025/03/South-West-BMX-Region.png
ORGANIZER;CN="South West Region BMX":MAILTO:admin@swbmxracing.co.uk
END:VEVENT
BEGIN:VEVENT
DTSTART;VALUE=DATE:20260531
DTEND;VALUE=DATE:20260601
DTSTAMP:20260421T131540
CREATED:20260302T185529Z
LAST-MODIFIED:20260302T185529Z
UID:10000253-1780185600-1780271999@theburm.com
SUMMARY:South West Regional Round 6 - Cardiff
DESCRIPTION:SW Regional Round 6 – Cardiff
URL:https://theburm.com/races/south-west-regional-round-6-cardiff-3/
LOCATION:Cardiff BMX Racing Club\, National BMX Centre Wales Hartland Rd\, Rumney\, Cardiff\, CF3 4JL\, United Kingdom
ATTACH;FMTTYPE=image/png:https://theburm.com/wp-content/uploads/2025/03/South-West-BMX-Region.png
ORGANIZER;CN="South West Region BMX":MAILTO:admin@swbmxracing.co.uk
END:VEVENT
BEGIN:VEVENT
DTSTART;VALUE=DATE:20260628
DTEND;VALUE=DATE:20260629
DTSTAMP:20260421T131540
CREATED:20260302T191755Z
LAST-MODIFIED:20260302T191755Z
UID:10000265-1782604800-1782691199@theburm.com
SUMMARY:South West Regional Round 7 - Bath
DESCRIPTION:SW Regional Round 7 – Bath
URL:https://theburm.com/races/south-west-regional-round-7-bath-2/
LOCATION:Bath BMX Club\, Bath BMX Track Field\, Odd Down Playing\, Bath\, BA2 2NX\, United Kingdom
ATTACH;FMTTYPE=image/png:https://theburm.com/wp-content/uploads/2025/03/South-West-BMX-Region.png
ORGANIZER;CN="South West Region BMX":MAILTO:admin@swbmxracing.co.uk
END:VEVENT
BEGIN:VEVENT
DTSTART;VALUE=DATE:20260703
DTEND;VALUE=DATE:20260706
DTSTAMP:20260421T131540
CREATED:20260302T191829Z
LAST-MODIFIED:20260302T191829Z
UID:10000266-1783036800-1783295999@theburm.com
SUMMARY:UK Nationals Rounds 7 & 8 and National Championships - Cardiff
DESCRIPTION:UK Nationals Rounds 7 & 8 and National Championships – Cardiff
URL:https://theburm.com/races/uk-nationals-rounds-7-8-and-national-championships-cardiff-2/
LOCATION:Cardiff BMX Racing Club\, National BMX Centre Wales Hartland Rd\, Rumney\, Cardiff\, CF3 4JL\, United Kingdom
ATTACH;FMTTYPE=image/png:https://theburm.com/wp-content/uploads/2024/10/images.png
END:VEVENT
BEGIN:VEVENT
DTSTART;VALUE=DATE:20260712
DTEND;VALUE=DATE:20260713
DTSTAMP:20260421T131540
CREATED:20260302T191937Z
LAST-MODIFIED:20260302T191937Z
UID:10000268-1783814400-1783900799@theburm.com
SUMMARY:South West Regional Round 8 - Burnham
DESCRIPTION:SW Regional Round 8 – Burnham
URL:https://theburm.com/races/south-west-regional-round-8-burnham-2/
LOCATION:Burnham-on-Sea BMX Club\, Burnham Bmx Club\, Burnham-on-Sea\, TA8 1NQ\, United Kingdom
ATTACH;FMTTYPE=image/png:https://theburm.com/wp-content/uploads/2025/03/South-West-BMX-Region.png
ORGANIZER;CN="South West Region BMX":MAILTO:admin@swbmxracing.co.uk
END:VEVENT
BEGIN:VEVENT
DTSTART;VALUE=DATE:20260719
DTEND;VALUE=DATE:20260720
DTSTAMP:20260421T131540
CREATED:20260302T193018Z
LAST-MODIFIED:20260302T193018Z
UID:10000273-1784419200-1784505599@theburm.com
SUMMARY:South West Regional Round 9 - Bristol
DESCRIPTION:SW Regional Round 9 – Bristol
URL:https://theburm.com/races/south-west-regional-round-9-bristol-3/
LOCATION:Bristol Jets BMX Club\, Bristol Jets BMX Club Water Side Dr\, Patchway\, Bristol\, BS34 5JT\, United Kingdom
CATEGORIES:South West
ATTACH;FMTTYPE=image/png:https://theburm.com/wp-content/uploads/2025/03/South-West-BMX-Region.png
ORGANIZER;CN="South West Region BMX":MAILTO:admin@swbmxracing.co.uk
END:VEVENT
END:VCALENDAR