BEGIN:VCALENDAR
VERSION:2.0
PRODID:-//The Burm - ECPv6.15.20//NONSGML v1.0//EN
CALSCALE:GREGORIAN
METHOD:PUBLISH
X-ORIGINAL-URL:https://theburm.com
X-WR-CALDESC:Events for The Burm
REFRESH-INTERVAL;VALUE=DURATION:PT1H
X-Robots-Tag:noindex
X-PUBLISHED-TTL:PT1H
BEGIN:VTIMEZONE
TZID:Europe/London
BEGIN:DAYLIGHT
TZOFFSETFROM:+0000
TZOFFSETTO:+0100
TZNAME:BST
DTSTART:20250330T010000
END:DAYLIGHT
BEGIN:STANDARD
TZOFFSETFROM:+0100
TZOFFSETTO:+0000
TZNAME:GMT
DTSTART:20251026T010000
END:STANDARD
BEGIN:DAYLIGHT
TZOFFSETFROM:+0000
TZOFFSETTO:+0100
TZNAME:BST
DTSTART:20260329T010000
END:DAYLIGHT
BEGIN:STANDARD
TZOFFSETFROM:+0100
TZOFFSETTO:+0000
TZNAME:GMT
DTSTART:20261025T010000
END:STANDARD
BEGIN:DAYLIGHT
TZOFFSETFROM:+0000
TZOFFSETTO:+0100
TZNAME:BST
DTSTART:20270328T010000
END:DAYLIGHT
BEGIN:STANDARD
TZOFFSETFROM:+0100
TZOFFSETTO:+0000
TZNAME:GMT
DTSTART:20271031T010000
END:STANDARD
END:VTIMEZONE
BEGIN:VEVENT
DTSTART;VALUE=DATE:20260502
DTEND;VALUE=DATE:20260504
DTSTAMP:20260421T021317
CREATED:20260302T182818Z
LAST-MODIFIED:20260302T182818Z
UID:10000243-1777680000-1777852799@theburm.com
SUMMARY:UK Nationals Rounds 3 & 4 - Glasgow
DESCRIPTION:UK Nationals Rounds 3 & 4 – Glasgow
URL:https://theburm.com/races/uk-nationals-rounds-3-4-glasgow-8/
ATTACH;FMTTYPE=image/png:https://theburm.com/wp-content/uploads/2024/10/images.png
END:VEVENT
BEGIN:VEVENT
DTSTART;VALUE=DATE:20260510
DTEND;VALUE=DATE:20260511
DTSTAMP:20260421T021317
CREATED:20260302T182851Z
LAST-MODIFIED:20260302T182851Z
UID:10000244-1778371200-1778457599@theburm.com
SUMMARY:South West Regional Round 4 - Llynfi
DESCRIPTION:SW Regional Round 4 – Llynfi
URL:https://theburm.com/races/south-west-regional-round-4-llynfi-8/
LOCATION:Llynfi BMX Racing Club\, Llynfi BMX Racing Club Former Coegnant Colliery Site\, Coegnant Rd\, Maesteg\, CF34 0TN\, United Kingdom
ATTACH;FMTTYPE=image/png:https://theburm.com/wp-content/uploads/2025/03/South-West-BMX-Region.png
ORGANIZER;CN="South West Region BMX":MAILTO:admin@swbmxracing.co.uk
END:VEVENT
BEGIN:VEVENT
DTSTART;VALUE=DATE:20260510
DTEND;VALUE=DATE:20260511
DTSTAMP:20260421T021317
CREATED:20260302T182958Z
LAST-MODIFIED:20260302T182958Z
UID:10000245-1778371200-1778457599@theburm.com
SUMMARY:Midlands Regional Round 2 - Doncaster
DESCRIPTION:Midlands Regional Round 2 – Doncaster
URL:https://theburm.com/races/midlands-regional-round-2-doncaster-2/
LOCATION:Doncaster BMX Club\, Doncaster Bmx Track 135 Weston Rd\, Doncaster\, DN4 8NB\, United Kingdom
ATTACH;FMTTYPE=image/jpeg:https://theburm.com/wp-content/uploads/2026/03/2025-03-17_17-29-06-e1744833945107-PTz5FM.jpg
END:VEVENT
BEGIN:VEVENT
DTSTART;VALUE=DATE:20260510
DTEND;VALUE=DATE:20260511
DTSTAMP:20260421T021317
CREATED:20260302T183033Z
LAST-MODIFIED:20260302T183033Z
UID:10000246-1778371200-1778457599@theburm.com
SUMMARY:EA BMX Regional Round 3 - Royston
DESCRIPTION:East Regional Round 3 – Royston
URL:https://theburm.com/races/ea-bmx-regional-round-3-royston-2/
LOCATION:Royston BMX Club\, Royston BMX\, Hertfordshire\, United Kingdom
ATTACH;FMTTYPE=image/png:https://theburm.com/wp-content/uploads/2025/03/EA-Region.png
END:VEVENT
BEGIN:VEVENT
DTSTART;VALUE=DATE:20260510
DTEND;VALUE=DATE:20260511
DTSTAMP:20260421T021317
CREATED:20260302T183106Z
LAST-MODIFIED:20260302T183106Z
UID:10000247-1778371200-1778457599@theburm.com
SUMMARY:Scotland Round 3 - Clydebank
DESCRIPTION:Scotland Round 3 – Clydebank
URL:https://theburm.com/races/scotland-round-3-clydebank-2/
LOCATION:Western Titans BMX Racing\, Titans BMX Racing 33 Onslow Rd\, Clydebank\, G81 2XT\, United Kingdom
ATTACH;FMTTYPE=image/jpeg:https://theburm.com/wp-content/uploads/2025/04/scottish_BMX-e1745233290425-aSyFMg.tmp_.jpg
ORGANIZER;CN="Scottish Cycling":MAILTO:scottishregionalbmx@gmail.com
END:VEVENT
BEGIN:VEVENT
DTSTART;VALUE=DATE:20260517
DTEND;VALUE=DATE:20260518
DTSTAMP:20260421T021317
CREATED:20260302T183140Z
LAST-MODIFIED:20260302T183140Z
UID:10000248-1778976000-1779062399@theburm.com
SUMMARY:South Regional Round 3 - Hawks
DESCRIPTION:South Regional Round 3 – Hawks
URL:https://theburm.com/races/south-regional-round-3-hawks-2/
LOCATION:Hayes Hawks BMX Club\, Hayes Hawks BMX Course Dawley Rd\, Hayes\, UB3 1EJ\, United Kingdom
ATTACH;FMTTYPE=image/png:https://theburm.com/wp-content/uploads/2025/04/South-East-BMX-Region-e1744969395703-6U2lhB.tmp_.png
ORGANIZER;CN="South Region":MAILTO:southregionbmx@aol.com
END:VEVENT
BEGIN:VEVENT
DTSTART;VALUE=DATE:20260517
DTEND;VALUE=DATE:20260518
DTSTAMP:20260421T021317
CREATED:20260302T183215Z
LAST-MODIFIED:20260302T183215Z
UID:10000249-1778976000-1779062399@theburm.com
SUMMARY:Midlands Regional Round 3 - Rotherham
DESCRIPTION:Midlands Regional Round 3 – Rotherham
URL:https://theburm.com/races/midlands-regional-round-3-rotherham-2/
LOCATION:Rotherham BMX Club\, Little Common Ln\,\, Rotherham\, Yorkshire\, S61 2RA\, United Kingdom
ATTACH;FMTTYPE=image/jpeg:https://theburm.com/wp-content/uploads/2026/03/2025-03-17_17-29-06-e1744833945107-PTz5FM.jpg
END:VEVENT
BEGIN:VEVENT
DTSTART;VALUE=DATE:20260517
DTEND;VALUE=DATE:20260518
DTSTAMP:20260421T021317
CREATED:20260302T185347Z
LAST-MODIFIED:20260302T185347Z
UID:10000250-1778976000-1779062399@theburm.com
SUMMARY:North Regional Round 4 - Bruntwood
DESCRIPTION:North Regional Round 4 – Bruntwood
URL:https://theburm.com/races/north-regional-round-4-bruntwood-3/
LOCATION:Bruntwood Park BMX Club\, Bruntwood Park BMX track Bruntwood Ln\, Bruntwood Park\, Cheadle\, SK8 1HX\, United Kingdom
ATTACH;FMTTYPE=image/png:https://theburm.com/wp-content/uploads/2024/10/images-2.png
ORGANIZER;CN="North Region BMX":MAILTO:Northregionbmx@outlook.com
END:VEVENT
BEGIN:VEVENT
DTSTART;VALUE=DATE:20260523
DTEND;VALUE=DATE:20260525
DTSTAMP:20260421T021317
CREATED:20260302T185420Z
LAST-MODIFIED:20260302T185420Z
UID:10000251-1779494400-1779667199@theburm.com
SUMMARY:Scotland Rounds 4 & 5 - Cumbernauld
DESCRIPTION:Scotland Rounds 4 & 5 – Cumbernauld
URL:https://theburm.com/races/scotland-rounds-4-5-cumbernauld-3/
LOCATION:Cumbernauld Centurions BMX Race Club\, Cumbernauld Centurions BMX Race Club 1 Ardgoil Dr\, Cumbernauld\, Glasgow\, G68 9NE\, United Kingdom
ATTACH;FMTTYPE=image/jpeg:https://theburm.com/wp-content/uploads/2025/04/scottish_BMX-e1745233290425-aSyFMg.tmp_.jpg
ORGANIZER;CN="Scottish Cycling":MAILTO:scottishregionalbmx@gmail.com
END:VEVENT
BEGIN:VEVENT
DTSTART;VALUE=DATE:20260524
DTEND;VALUE=DATE:20260525
DTSTAMP:20260421T021317
CREATED:20260302T185454Z
LAST-MODIFIED:20260302T185454Z
UID:10000252-1779580800-1779667199@theburm.com
SUMMARY:EA BMX Regional Round 4 - Cyclopark
DESCRIPTION:East Regional Round 4 – Cyclopark
URL:https://theburm.com/races/ea-bmx-regional-round-4-cyclopark-3/
LOCATION:Cyclopark BMX Track\, Cyclopark\, Gravesend\, Kent\, DA11 7NP\, United Kingdom
ATTACH;FMTTYPE=image/png:https://theburm.com/wp-content/uploads/2025/03/EA-Region.png
END:VEVENT
BEGIN:VEVENT
DTSTART;VALUE=DATE:20260531
DTEND;VALUE=DATE:20260601
DTSTAMP:20260421T021317
CREATED:20260302T185529Z
LAST-MODIFIED:20260302T185529Z
UID:10000253-1780185600-1780271999@theburm.com
SUMMARY:South West Regional Round 6 - Cardiff
DESCRIPTION:SW Regional Round 6 – Cardiff
URL:https://theburm.com/races/south-west-regional-round-6-cardiff-3/
LOCATION:Cardiff BMX Racing Club\, National BMX Centre Wales Hartland Rd\, Rumney\, Cardiff\, CF3 4JL\, United Kingdom
ATTACH;FMTTYPE=image/png:https://theburm.com/wp-content/uploads/2025/03/South-West-BMX-Region.png
ORGANIZER;CN="South West Region BMX":MAILTO:admin@swbmxracing.co.uk
END:VEVENT
BEGIN:VEVENT
DTSTART;VALUE=DATE:20260531
DTEND;VALUE=DATE:20260601
DTSTAMP:20260421T021317
CREATED:20260302T185603Z
LAST-MODIFIED:20260302T185603Z
UID:10000254-1780185600-1780271999@theburm.com
SUMMARY:South Regional Round 4 - Gosport
DESCRIPTION:South Regional Round 4 – Gosport
URL:https://theburm.com/races/south-regional-round-4-gosport-3/
LOCATION:Gosport BMX Club\, Gosport BMX Track Grange Rd\, Gosport\, PO13 8AS\, United Kingdom
ATTACH;FMTTYPE=image/png:https://theburm.com/wp-content/uploads/2025/04/South-East-BMX-Region-e1744969395703-6U2lhB.tmp_.png
ORGANIZER;CN="South Region":MAILTO:southregionbmx@aol.com
END:VEVENT
BEGIN:VEVENT
DTSTART;VALUE=DATE:20260531
DTEND;VALUE=DATE:20260601
DTSTAMP:20260421T021317
CREATED:20260302T190237Z
LAST-MODIFIED:20260302T190237Z
UID:10000255-1780185600-1780271999@theburm.com
SUMMARY:Midlands Regional Round 4 - Redditch
DESCRIPTION:Midlands Regional Round 4 – Redditch
URL:https://theburm.com/races/midlands-regional-round-4-redditch-3/
LOCATION:Redditch Premiers Bmx Club\, Redditch Premiers Bmx Club Icknield St Dr\, Redditch\, B98 0DD\, United Kingdom
CATEGORIES:Midlands
ATTACH;FMTTYPE=image/jpeg:https://theburm.com/wp-content/uploads/2026/03/2025-03-17_17-29-06-e1744833945107-PTz5FM.jpg
END:VEVENT
BEGIN:VEVENT
DTSTART;VALUE=DATE:20260531
DTEND;VALUE=DATE:20260601
DTSTAMP:20260421T021317
CREATED:20260302T190312Z
LAST-MODIFIED:20260302T190312Z
UID:10000256-1780185600-1780271999@theburm.com
SUMMARY:North Regional Round 5 - Platt Fields
DESCRIPTION:North Regional Round 5 – Platt Fields
URL:https://theburm.com/races/north-regional-round-5-platt-fields-3/
LOCATION:Manchester BMX Club\, Platt Fields Park Platt Fields Park\, Fallowfield\, Manchester\, M14 6LA\, United Kingdom
CATEGORIES:North
ATTACH;FMTTYPE=image/png:https://theburm.com/wp-content/uploads/2024/10/images-2.png
ORGANIZER;CN="North Region BMX":MAILTO:Northregionbmx@outlook.com
END:VEVENT
END:VCALENDAR