BEGIN:VCALENDAR
VERSION:2.0
PRODID:-//The Burm - ECPv6.15.20//NONSGML v1.0//EN
CALSCALE:GREGORIAN
METHOD:PUBLISH
X-WR-CALNAME:The Burm
X-ORIGINAL-URL:https://theburm.com
X-WR-CALDESC:Events for The Burm
REFRESH-INTERVAL;VALUE=DURATION:PT1H
X-Robots-Tag:noindex
X-PUBLISHED-TTL:PT1H
BEGIN:VTIMEZONE
TZID:Europe/London
BEGIN:DAYLIGHT
TZOFFSETFROM:+0000
TZOFFSETTO:+0100
TZNAME:BST
DTSTART:20250330T010000
END:DAYLIGHT
BEGIN:STANDARD
TZOFFSETFROM:+0100
TZOFFSETTO:+0000
TZNAME:GMT
DTSTART:20251026T010000
END:STANDARD
BEGIN:DAYLIGHT
TZOFFSETFROM:+0000
TZOFFSETTO:+0100
TZNAME:BST
DTSTART:20260329T010000
END:DAYLIGHT
BEGIN:STANDARD
TZOFFSETFROM:+0100
TZOFFSETTO:+0000
TZNAME:GMT
DTSTART:20261025T010000
END:STANDARD
BEGIN:DAYLIGHT
TZOFFSETFROM:+0000
TZOFFSETTO:+0100
TZNAME:BST
DTSTART:20270328T010000
END:DAYLIGHT
BEGIN:STANDARD
TZOFFSETFROM:+0100
TZOFFSETTO:+0000
TZNAME:GMT
DTSTART:20271031T010000
END:STANDARD
END:VTIMEZONE
BEGIN:VEVENT
DTSTART;VALUE=DATE:20260703
DTEND;VALUE=DATE:20260706
DTSTAMP:20260421T060131
CREATED:20260302T191829Z
LAST-MODIFIED:20260302T191829Z
UID:10000266-1783036800-1783295999@theburm.com
SUMMARY:UK Nationals Rounds 7 & 8 and National Championships - Cardiff
DESCRIPTION:UK Nationals Rounds 7 & 8 and National Championships – Cardiff
URL:https://theburm.com/races/uk-nationals-rounds-7-8-and-national-championships-cardiff-2/
LOCATION:Cardiff BMX Racing Club\, National BMX Centre Wales Hartland Rd\, Rumney\, Cardiff\, CF3 4JL\, United Kingdom
ATTACH;FMTTYPE=image/png:https://theburm.com/wp-content/uploads/2024/10/images.png
END:VEVENT
BEGIN:VEVENT
DTSTART;VALUE=DATE:20260711
DTEND;VALUE=DATE:20260712
DTSTAMP:20260421T060131
CREATED:20260302T191903Z
LAST-MODIFIED:20260302T191903Z
UID:10000267-1783728000-1783814399@theburm.com
SUMMARY:Scotland Round 7 - Clydebank
DESCRIPTION:Scotland Round 7 – Clydebank
URL:https://theburm.com/races/scotland-round-7-clydebank-2/
LOCATION:Western Titans BMX Racing\, Titans BMX Racing 33 Onslow Rd\, Clydebank\, G81 2XT\, United Kingdom
ATTACH;FMTTYPE=image/jpeg:https://theburm.com/wp-content/uploads/2025/04/scottish_BMX-e1745233290425-aSyFMg.tmp_.jpg
ORGANIZER;CN="Scottish Cycling":MAILTO:scottishregionalbmx@gmail.com
END:VEVENT
BEGIN:VEVENT
DTSTART;VALUE=DATE:20260712
DTEND;VALUE=DATE:20260713
DTSTAMP:20260421T060131
CREATED:20260302T191937Z
LAST-MODIFIED:20260302T191937Z
UID:10000268-1783814400-1783900799@theburm.com
SUMMARY:South West Regional Round 8 - Burnham
DESCRIPTION:SW Regional Round 8 – Burnham
URL:https://theburm.com/races/south-west-regional-round-8-burnham-2/
LOCATION:Burnham-on-Sea BMX Club\, Burnham Bmx Club\, Burnham-on-Sea\, TA8 1NQ\, United Kingdom
ATTACH;FMTTYPE=image/png:https://theburm.com/wp-content/uploads/2025/03/South-West-BMX-Region.png
ORGANIZER;CN="South West Region BMX":MAILTO:admin@swbmxracing.co.uk
END:VEVENT
BEGIN:VEVENT
DTSTART;VALUE=DATE:20260712
DTEND;VALUE=DATE:20260713
DTSTAMP:20260421T060131
CREATED:20260302T192012Z
LAST-MODIFIED:20260302T192012Z
UID:10000269-1783814400-1783900799@theburm.com
SUMMARY:Midlands Regional Round 7 - Derby
DESCRIPTION:Midlands Regional Round 7 – Derby
URL:https://theburm.com/races/midlands-regional-round-7-derby-2/
LOCATION:Derby BMX Club\, Alvaston Park BMX Track Alvaston\, Derby\, DE24 8FD\, United Kingdom
ATTACH;FMTTYPE=image/jpeg:https://theburm.com/wp-content/uploads/2026/03/2025-03-17_17-29-06-e1744833945107-PTz5FM.jpg
END:VEVENT
BEGIN:VEVENT
DTSTART;VALUE=DATE:20260712
DTEND;VALUE=DATE:20260713
DTSTAMP:20260421T060131
CREATED:20260302T192833Z
LAST-MODIFIED:20260302T192833Z
UID:10000270-1783814400-1783900799@theburm.com
SUMMARY:North Regional Round 7 - Bradford
DESCRIPTION:North Regional Round 7 – Bradford
URL:https://theburm.com/races/north-regional-round-7-bradford-3/
LOCATION:Bradford Bandits BMX Track\, Peel Park BMX Track Cliffe Road\, Bradford\, BD2 4BX\, United Kingdom
CATEGORIES:North
ATTACH;FMTTYPE=image/png:https://theburm.com/wp-content/uploads/2024/10/images-2.png
ORGANIZER;CN="North Region BMX":MAILTO:Northregionbmx@outlook.com
END:VEVENT
BEGIN:VEVENT
DTSTART;VALUE=DATE:20260712
DTEND;VALUE=DATE:20260713
DTSTAMP:20260421T060131
CREATED:20260302T192909Z
LAST-MODIFIED:20260302T192909Z
UID:10000271-1783814400-1783900799@theburm.com
SUMMARY:EA BMX Regional Round 7 - Royston
DESCRIPTION:East Regional Round 7 – Royston
URL:https://theburm.com/races/ea-bmx-regional-round-7-royston-3/
LOCATION:Royston BMX Club\, Royston BMX\, Hertfordshire\, United Kingdom
CATEGORIES:EA BMX
ATTACH;FMTTYPE=image/png:https://theburm.com/wp-content/uploads/2025/03/EA-Region.png
END:VEVENT
BEGIN:VEVENT
DTSTART;VALUE=DATE:20260712
DTEND;VALUE=DATE:20260713
DTSTAMP:20260421T060131
CREATED:20260302T192943Z
LAST-MODIFIED:20260302T192943Z
UID:10000272-1783814400-1783900799@theburm.com
SUMMARY:Scotland Round 8 - Knightswood
DESCRIPTION:Scotland Round 8 – Knightswood
URL:https://theburm.com/races/scotland-round-8-knightswood-3/
CATEGORIES:Scottish Cycling
ATTACH;FMTTYPE=image/jpeg:https://theburm.com/wp-content/uploads/2025/04/scottish_BMX-e1745233290425-aSyFMg.tmp_.jpg
ORGANIZER;CN="Scottish Cycling":MAILTO:scottishregionalbmx@gmail.com
END:VEVENT
BEGIN:VEVENT
DTSTART;VALUE=DATE:20260719
DTEND;VALUE=DATE:20260720
DTSTAMP:20260421T060131
CREATED:20260302T193018Z
LAST-MODIFIED:20260302T193018Z
UID:10000273-1784419200-1784505599@theburm.com
SUMMARY:South West Regional Round 9 - Bristol
DESCRIPTION:SW Regional Round 9 – Bristol
URL:https://theburm.com/races/south-west-regional-round-9-bristol-3/
LOCATION:Bristol Jets BMX Club\, Bristol Jets BMX Club Water Side Dr\, Patchway\, Bristol\, BS34 5JT\, United Kingdom
CATEGORIES:South West
ATTACH;FMTTYPE=image/png:https://theburm.com/wp-content/uploads/2025/03/South-West-BMX-Region.png
ORGANIZER;CN="South West Region BMX":MAILTO:admin@swbmxracing.co.uk
END:VEVENT
BEGIN:VEVENT
DTSTART;VALUE=DATE:20260719
DTEND;VALUE=DATE:20260720
DTSTAMP:20260421T060131
CREATED:20260302T193053Z
LAST-MODIFIED:20260302T193053Z
UID:10000274-1784419200-1784505599@theburm.com
SUMMARY:South Regional Round 6 - Runnymede
DESCRIPTION:South Regional Round 6 – Runnymede
URL:https://theburm.com/races/south-regional-round-6-runnymede-3/
LOCATION:Runnymede Rockets BMX Club\, Runneymede Rockets BMX Track Addlestone Moor\, Addlestone\, KT15 2QL\, United Kingdom
CATEGORIES:South
ATTACH;FMTTYPE=image/png:https://theburm.com/wp-content/uploads/2025/04/South-East-BMX-Region-e1744969395703-6U2lhB.tmp_.png
ORGANIZER;CN="South Region":MAILTO:southregionbmx@aol.com
END:VEVENT
BEGIN:VEVENT
DTSTART;VALUE=DATE:20260719
DTEND;VALUE=DATE:20260720
DTSTAMP:20260421T060131
CREATED:20260302T193448Z
LAST-MODIFIED:20260302T193448Z
UID:10000275-1784419200-1784505599@theburm.com
SUMMARY:Midlands Regional Round 8 - Birmingham
DESCRIPTION:Midlands Regional Round 8 – Birmingham
URL:https://theburm.com/races/midlands-regional-round-8-birmingham-2/
LOCATION:Birmingham BMX Club\, Birmingham BMX Club 290 Aldridge Rd\, Birmingham\, B42 2SP\, United Kingdom
CATEGORIES:Midlands
ATTACH;FMTTYPE=image/jpeg:https://theburm.com/wp-content/uploads/2026/03/2025-03-17_17-29-06-e1744833945107-PTz5FM.jpg
END:VEVENT
BEGIN:VEVENT
DTSTART;VALUE=DATE:20260719
DTEND;VALUE=DATE:20260720
DTSTAMP:20260421T060131
CREATED:20260302T193524Z
LAST-MODIFIED:20260302T193524Z
UID:10000276-1784419200-1784505599@theburm.com
SUMMARY:North Regional Round 8 - Blackpool
DESCRIPTION:North Regional Round 8 – Blackpool
URL:https://theburm.com/races/north-regional-round-8-blackpool-2/
LOCATION:Blackpool BMX Club\, Blackpool BMX Club E Park Dr\, Blackpool\, FY3 9RB\, United Kingdom
CATEGORIES:North
ATTACH;FMTTYPE=image/png:https://theburm.com/wp-content/uploads/2024/10/images-2.png
ORGANIZER;CN="North Region BMX":MAILTO:Northregionbmx@outlook.com
END:VEVENT
BEGIN:VEVENT
DTSTART;VALUE=DATE:20260801
DTEND;VALUE=DATE:20260803
DTSTAMP:20260421T060131
CREATED:20260302T193600Z
LAST-MODIFIED:20260302T193600Z
UID:10000277-1785542400-1785715199@theburm.com
SUMMARY:UK Nationals Rounds 9 & 10 - Derby
DESCRIPTION:UK Nationals Rounds 9 & 10 – Derby
URL:https://theburm.com/races/uk-nationals-rounds-9-10-derby-2/
LOCATION:Derby BMX Club\, Alvaston Park BMX Track Alvaston\, Derby\, DE24 8FD\, United Kingdom
CATEGORIES:British Cycling
ATTACH;FMTTYPE=image/png:https://theburm.com/wp-content/uploads/2024/10/images.png
END:VEVENT
BEGIN:VEVENT
DTSTART;VALUE=DATE:20260809
DTEND;VALUE=DATE:20260810
DTSTAMP:20260421T060131
CREATED:20260302T193635Z
LAST-MODIFIED:20260302T193635Z
UID:10000278-1786233600-1786319999@theburm.com
SUMMARY:EA BMX Regional Round 8 - Milton Keynes
DESCRIPTION:East Regional Round 8 – Milton Keynes
URL:https://theburm.com/races/ea-bmx-regional-round-8-milton-keynes-2/
LOCATION:Milton Keynes BMX Club\, Milton Keynes BMX Racing Club\, Milton Keynes\, Milton Keynes\, MK15 9PA\, United Kingdom
CATEGORIES:EA BMX
ATTACH;FMTTYPE=image/png:https://theburm.com/wp-content/uploads/2025/03/EA-Region.png
END:VEVENT
BEGIN:VEVENT
DTSTART;VALUE=DATE:20260816
DTEND;VALUE=DATE:20260817
DTSTAMP:20260421T060131
CREATED:20260302T193710Z
LAST-MODIFIED:20260302T193710Z
UID:10000279-1786838400-1786924799@theburm.com
SUMMARY:South Regional Round 7 - Bournemouth
DESCRIPTION:South Regional Round 7 – Bournemouth
URL:https://theburm.com/races/south-regional-round-7-bournemouth-2/
LOCATION:Bournemouth BMX Club\, Bournemouth BMX Track Iford Ln\, Bournemouth\, BH6 5NF\, United Kingdom
CATEGORIES:South Regionals
ATTACH;FMTTYPE=image/png:https://theburm.com/wp-content/uploads/2025/04/South-East-BMX-Region-e1744969395703-6U2lhB.tmp_.png
ORGANIZER;CN="South Region":MAILTO:southregionbmx@aol.com
END:VEVENT
END:VCALENDAR