BEGIN:VCALENDAR
VERSION:2.0
PRODID:-//The Burm - ECPv6.15.20//NONSGML v1.0//EN
CALSCALE:GREGORIAN
METHOD:PUBLISH
X-ORIGINAL-URL:https://theburm.com
X-WR-CALDESC:Events for The Burm
REFRESH-INTERVAL;VALUE=DURATION:PT1H
X-Robots-Tag:noindex
X-PUBLISHED-TTL:PT1H
BEGIN:VTIMEZONE
TZID:Europe/London
BEGIN:DAYLIGHT
TZOFFSETFROM:+0000
TZOFFSETTO:+0100
TZNAME:BST
DTSTART:20240331T010000
END:DAYLIGHT
BEGIN:STANDARD
TZOFFSETFROM:+0100
TZOFFSETTO:+0000
TZNAME:GMT
DTSTART:20241027T010000
END:STANDARD
BEGIN:DAYLIGHT
TZOFFSETFROM:+0000
TZOFFSETTO:+0100
TZNAME:BST
DTSTART:20250330T010000
END:DAYLIGHT
BEGIN:STANDARD
TZOFFSETFROM:+0100
TZOFFSETTO:+0000
TZNAME:GMT
DTSTART:20251026T010000
END:STANDARD
BEGIN:DAYLIGHT
TZOFFSETFROM:+0000
TZOFFSETTO:+0100
TZNAME:BST
DTSTART:20260329T010000
END:DAYLIGHT
BEGIN:STANDARD
TZOFFSETFROM:+0100
TZOFFSETTO:+0000
TZNAME:GMT
DTSTART:20261025T010000
END:STANDARD
END:VTIMEZONE
BEGIN:VEVENT
DTSTART;TZID=Europe/London:20250902T180000
DTEND;TZID=Europe/London:20250902T203000
DTSTAMP:20260421T130447
CREATED:20250414T195259Z
LAST-MODIFIED:20250416T110502Z
UID:10000042-1756836000-1756845000@theburm.com
SUMMARY:Round 11 - Royston Rockets Summer Series 2025
DESCRIPTION:🏁 Royston Rockets Summer Series 2025 – Let’s Go Racing! \nGet ready for an exciting season of BMX action as the Royston Rockets Summer Series 2025 is under way.! This is your chance to hit the gate with riders from Royston and beyond—open to all club members and visiting riders. \n🗓️ Race Details \n\n\nBest of 6 rounds count toward the final series awards \n\n\nCheck-in: 6:00–6:30 PM \n\n\nRace Start: 6:45 PM sharp \n\n\nEntry Fee: £7 \n\n\nTransponder Hire: £5 \n\n\nWhether you’re chasing podiums or just out for fun\, come join the action! Got questions? Speak to your coaches or a committee member. See you on the gate! \n🔗 Event Info & Registration: bit.ly/roystonbmx2025\n🔗 Updates on Instagram: bit.ly/roystoninsta
URL:https://theburm.com/races/round-11-royston-rockets-summer-series-2025/
LOCATION:Royston BMX Club\, Royston BMX\, Hertfordshire\, United Kingdom
CATEGORIES:EA BMX,Royston Rockets
ATTACH;FMTTYPE=image/webp:https://theburm.com/wp-content/uploads/2025/04/Royston-BMX-Club-e1744801241108.webp
ORGANIZER;CN="Royston Rockets":MAILTO:roystonbmx@gmail.com
END:VEVENT
BEGIN:VEVENT
DTSTART;TZID=Europe/London:20250805T180000
DTEND;TZID=Europe/London:20250805T203000
DTSTAMP:20260421T130447
CREATED:20250414T195259Z
LAST-MODIFIED:20250416T111805Z
UID:10000041-1754416800-1754425800@theburm.com
SUMMARY:Round 10 - Royston Rockets Summer Series 2025
DESCRIPTION:🏁 Royston Rockets Summer Series 2025 – Let’s Go Racing! \nGet ready for an exciting season of BMX action as the Royston Rockets Summer Series 2025 is under way.! This is your chance to hit the gate with riders from Royston and beyond—open to all club members and visiting riders. \n🗓️ Race Details \n\n\nBest of 6 rounds count toward the final series awards \n\n\nCheck-in: 6:00–6:30 PM \n\n\nRace Start: 6:45 PM sharp \n\n\nEntry Fee: £7 \n\n\nTransponder Hire: £5 \n\n\nWhether you’re chasing podiums or just out for fun\, come join the action! Got questions? Speak to your coaches or a committee member. See you on the gate! \n🔗 Event Info & Registration: Register\n🔗 Sqorz updates and results: Sqorz\n🔗 Updates on Instagram: Instagram\n🔗 Updates on Facebook: Facebook
URL:https://theburm.com/races/round-10-royston-rockets-summer-series-2025/
LOCATION:Royston BMX Club\, Royston BMX\, Hertfordshire\, United Kingdom
CATEGORIES:EA BMX,Royston Rockets
ATTACH;FMTTYPE=image/webp:https://theburm.com/wp-content/uploads/2025/04/Royston-BMX-Club-e1744801241108.webp
ORGANIZER;CN="Royston Rockets":MAILTO:roystonbmx@gmail.com
END:VEVENT
BEGIN:VEVENT
DTSTART;TZID=Europe/London:20250722T180000
DTEND;TZID=Europe/London:20250722T203000
DTSTAMP:20260421T130447
CREATED:20250414T195258Z
LAST-MODIFIED:20250416T111755Z
UID:10000040-1753207200-1753216200@theburm.com
SUMMARY:Round 9 - Royston Rockets Summer Series 2025
DESCRIPTION:🏁 Royston Rockets Summer Series 2025 – Let’s Go Racing! \nGet ready for an exciting season of BMX action as the Royston Rockets Summer Series 2025 is under way.! This is your chance to hit the gate with riders from Royston and beyond—open to all club members and visiting riders. \n🗓️ Race Details \n\n\nBest of 6 rounds count toward the final series awards \n\n\nCheck-in: 6:00–6:30 PM \n\n\nRace Start: 6:45 PM sharp \n\n\nEntry Fee: £7 \n\n\nTransponder Hire: £5 \n\n\nWhether you’re chasing podiums or just out for fun\, come join the action! Got questions? Speak to your coaches or a committee member. See you on the gate! \n🔗 Event Info & Registration: Register\n🔗 Sqorz updates and results: Sqorz\n🔗 Updates on Instagram: Instagram\n🔗 Updates on Facebook: Facebook
URL:https://theburm.com/races/round-9-royston-rockets-summer-series-2025/
LOCATION:Royston BMX Club\, Royston BMX\, Hertfordshire\, United Kingdom
CATEGORIES:EA BMX,Royston Rockets
ATTACH;FMTTYPE=image/webp:https://theburm.com/wp-content/uploads/2025/04/Royston-BMX-Club-e1744801241108.webp
ORGANIZER;CN="Royston Rockets":MAILTO:roystonbmx@gmail.com
END:VEVENT
BEGIN:VEVENT
DTSTART;TZID=Europe/London:20250708T180000
DTEND;TZID=Europe/London:20250708T203000
DTSTAMP:20260421T130447
CREATED:20250414T195246Z
LAST-MODIFIED:20250416T111825Z
UID:10000039-1751997600-1752006600@theburm.com
SUMMARY:Round 8 - Royston Rockets Summer Series 2025
DESCRIPTION:🏁 Royston Rockets Summer Series 2025 – Let’s Go Racing! \nGet ready for an exciting season of BMX action as the Royston Rockets Summer Series 2025 is under way.! This is your chance to hit the gate with riders from Royston and beyond—open to all club members and visiting riders. \n🗓️ Race Details \n\n\nBest of 6 rounds count toward the final series awards \n\n\nCheck-in: 6:00–6:30 PM \n\n\nRace Start: 6:45 PM sharp \n\n\nEntry Fee: £7 \n\n\nTransponder Hire: £5 \n\n\nWhether you’re chasing podiums or just out for fun\, come join the action! Got questions? Speak to your coaches or a committee member. See you on the gate! \n🔗 Event Info & Registration: Register\n🔗 Sqorz updates and results: Sqorz\n🔗 Updates on Instagram: Instagram\n🔗 Updates on Facebook: Facebook
URL:https://theburm.com/races/round-8-royston-rockets-summer-series-2025/
LOCATION:Royston BMX Club\, Royston BMX\, Hertfordshire\, United Kingdom
CATEGORIES:EA BMX,Royston Rockets
ATTACH;FMTTYPE=image/webp:https://theburm.com/wp-content/uploads/2025/04/Royston-BMX-Club-e1744801241108.webp
ORGANIZER;CN="Royston Rockets":MAILTO:roystonbmx@gmail.com
END:VEVENT
BEGIN:VEVENT
DTSTART;TZID=Europe/London:20250624T180000
DTEND;TZID=Europe/London:20250624T203000
DTSTAMP:20260421T130447
CREATED:20250414T195245Z
LAST-MODIFIED:20250416T111936Z
UID:10000038-1750788000-1750797000@theburm.com
SUMMARY:Round 7 - Royston Rockets Summer Series 2025
DESCRIPTION:🏁 Royston Rockets Summer Series 2025 – Let’s Go Racing! \nGet ready for an exciting season of BMX action as the Royston Rockets Summer Series 2025 is under way.! This is your chance to hit the gate with riders from Royston and beyond—open to all club members and visiting riders. \n🗓️ Race Details \n\n\nBest of 6 rounds count toward the final series awards \n\n\nCheck-in: 6:00–6:30 PM \n\n\nRace Start: 6:45 PM sharp \n\n\nEntry Fee: £7 \n\n\nTransponder Hire: £5 \n\n\nWhether you’re chasing podiums or just out for fun\, come join the action! Got questions? Speak to your coaches or a committee member. See you on the gate! \n🔗 Event Info & Registration: Register\n🔗 Sqorz updates and results: Sqorz\n🔗 Updates on Instagram: Instagram\n🔗 Updates on Facebook: Facebook
URL:https://theburm.com/races/round-7-royston-rockets-summer-series-2025/
LOCATION:Royston BMX Club\, Royston BMX\, Hertfordshire\, United Kingdom
CATEGORIES:EA BMX,Royston Rockets
ATTACH;FMTTYPE=image/webp:https://theburm.com/wp-content/uploads/2025/04/Royston-BMX-Club-e1744801241108.webp
ORGANIZER;CN="Royston Rockets":MAILTO:roystonbmx@gmail.com
END:VEVENT
BEGIN:VEVENT
DTSTART;TZID=Europe/London:20250610T180000
DTEND;TZID=Europe/London:20250610T203000
DTSTAMP:20260421T130447
CREATED:20250414T195245Z
LAST-MODIFIED:20250416T111953Z
UID:10000037-1749578400-1749587400@theburm.com
SUMMARY:Round 6 - Royston Rockets Summer Series 2025
DESCRIPTION:🏁 Royston Rockets Summer Series 2025 – Let’s Go Racing! \nGet ready for an exciting season of BMX action as the Royston Rockets Summer Series 2025 is under way.! This is your chance to hit the gate with riders from Royston and beyond—open to all club members and visiting riders. \n🗓️ Race Details \n\n\nBest of 6 rounds count toward the final series awards \n\n\nCheck-in: 6:00–6:30 PM \n\n\nRace Start: 6:45 PM sharp \n\n\nEntry Fee: £7 \n\n\nTransponder Hire: £5 \n\n\nWhether you’re chasing podiums or just out for fun\, come join the action! Got questions? Speak to your coaches or a committee member. See you on the gate! \n🔗 Event Info & Registration: Register\n🔗 Sqorz updates and results: Sqorz\n🔗 Updates on Instagram: Instagram\n🔗 Updates on Facebook: Facebook
URL:https://theburm.com/races/round-6-royston-rockets-summer-series-2025/
LOCATION:Royston BMX Club\, Royston BMX\, Hertfordshire\, United Kingdom
CATEGORIES:EA BMX,Royston Rockets
ATTACH;FMTTYPE=image/webp:https://theburm.com/wp-content/uploads/2025/04/Royston-BMX-Club-e1744801241108.webp
ORGANIZER;CN="Royston Rockets":MAILTO:roystonbmx@gmail.com
END:VEVENT
BEGIN:VEVENT
DTSTART;TZID=Europe/London:20250527T180000
DTEND;TZID=Europe/London:20250527T203000
DTSTAMP:20260421T130447
CREATED:20250414T195244Z
LAST-MODIFIED:20250416T112022Z
UID:10000036-1748368800-1748377800@theburm.com
SUMMARY:Round 5 - Royston Rockets Summer Series 2025
DESCRIPTION:🏁 Royston Rockets Summer Series 2025 – Let’s Go Racing! \nGet ready for an exciting season of BMX action as the Royston Rockets Summer Series 2025 is under way.! This is your chance to hit the gate with riders from Royston and beyond—open to all club members and visiting riders. \n🗓️ Race Details \n\n\nBest of 6 rounds count toward the final series awards \n\n\nCheck-in: 6:00–6:30 PM \n\n\nRace Start: 6:45 PM sharp \n\n\nEntry Fee: £7 \n\n\nTransponder Hire: £5 \n\n\nWhether you’re chasing podiums or just out for fun\, come join the action! Got questions? Speak to your coaches or a committee member. See you on the gate! \n🔗 Event Info & Registration: Register\n🔗 Sqorz updates and results: Sqorz\n🔗 Updates on Instagram: Instagram\n🔗 Updates on Facebook: Facebook
URL:https://theburm.com/races/round-5-royston-rockets-summer-series-2025/
LOCATION:Royston BMX Club\, Royston BMX\, Hertfordshire\, United Kingdom
CATEGORIES:EA BMX,Royston Rockets
ATTACH;FMTTYPE=image/webp:https://theburm.com/wp-content/uploads/2025/04/Royston-BMX-Club-e1744801241108.webp
ORGANIZER;CN="Royston Rockets":MAILTO:roystonbmx@gmail.com
END:VEVENT
BEGIN:VEVENT
DTSTART;TZID=Europe/London:20250513T180000
DTEND;TZID=Europe/London:20250513T203000
DTSTAMP:20260421T130447
CREATED:20250414T195243Z
LAST-MODIFIED:20250416T112039Z
UID:10000035-1747159200-1747168200@theburm.com
SUMMARY:Round 4 - Royston Rockets Summer Series 2025
DESCRIPTION:🏁 Royston Rockets Summer Series 2025 – Let’s Go Racing! \nGet ready for an exciting season of BMX action as the Royston Rockets Summer Series 2025 is under way.! This is your chance to hit the gate with riders from Royston and beyond—open to all club members and visiting riders. \n🗓️ Race Details \n\n\nBest of 6 rounds count toward the final series awards \n\n\nCheck-in: 6:00–6:30 PM \n\n\nRace Start: 6:45 PM sharp \n\n\nEntry Fee: £7 \n\n\nTransponder Hire: £5 \n\n\nWhether you’re chasing podiums or just out for fun\, come join the action! Got questions? Speak to your coaches or a committee member. See you on the gate! \n🔗 Event Info & Registration: Register\n🔗 Sqorz updates and results: Sqorz\n🔗 Updates on Instagram: Instagram\n🔗 Updates on Facebook: Facebook
URL:https://theburm.com/races/round-4-royston-rockets-summer-series-2025/
LOCATION:Royston BMX Club\, Royston BMX\, Hertfordshire\, United Kingdom
CATEGORIES:EA BMX,Royston Rockets
ATTACH;FMTTYPE=image/webp:https://theburm.com/wp-content/uploads/2025/04/Royston-BMX-Club-e1744801241108.webp
ORGANIZER;CN="Royston Rockets":MAILTO:roystonbmx@gmail.com
END:VEVENT
BEGIN:VEVENT
DTSTART;TZID=Europe/London:20250429T180000
DTEND;TZID=Europe/London:20250429T203000
DTSTAMP:20260421T130447
CREATED:20250414T195231Z
LAST-MODIFIED:20250416T111604Z
UID:10000034-1745949600-1745958600@theburm.com
SUMMARY:Round 3 - Royston Rockets Summer Series 2025
DESCRIPTION:🏁 Royston Rockets Summer Series 2025 – Let’s Go Racing! \nGet ready for an exciting season of BMX action as the Royston Rockets Summer Series 2025 is under way.! This is your chance to hit the gate with riders from Royston and beyond—open to all club members and visiting riders. \n🗓️ Race Details \n\n\nBest of 6 rounds count toward the final series awards \n\n\nCheck-in: 6:00–6:30 PM \n\n\nRace Start: 6:45 PM sharp \n\n\nEntry Fee: £7 \n\n\nTransponder Hire: £5 \n\n\nWhether you’re chasing podiums or just out for fun\, come join the action! Got questions? Speak to your coaches or a committee member. See you on the gate! \n🔗 Event Info & Registration: Register\n🔗 Sqorz updates and results: Sqorz\n🔗 Updates on Instagram: Instagram\n🔗 Updates on Facebook: Facebook
URL:https://theburm.com/races/round-3-royston-rockets-summer-series-2025/
LOCATION:Royston BMX Club\, Royston BMX\, Hertfordshire\, United Kingdom
CATEGORIES:EA BMX,Royston Rockets
ATTACH;FMTTYPE=image/webp:https://theburm.com/wp-content/uploads/2025/04/Royston-BMX-Club-e1744801241108.webp
ORGANIZER;CN="Royston Rockets":MAILTO:roystonbmx@gmail.com
END:VEVENT
BEGIN:VEVENT
DTSTART;TZID=Europe/London:20250415T180000
DTEND;TZID=Europe/London:20250415T203000
DTSTAMP:20260421T130447
CREATED:20250414T195230Z
LAST-MODIFIED:20250416T111634Z
UID:10000033-1744740000-1744749000@theburm.com
SUMMARY:Round 2 - Royston Rockets Summer Series 2025
DESCRIPTION:🏁 Royston Rockets Summer Series 2025 – Let’s Go Racing! \nGet ready for an exciting season of BMX action as the Royston Rockets Summer Series 2025 is under way.! This is your chance to hit the gate with riders from Royston and beyond—open to all club members and visiting riders. \n🗓️ Race Details \n\n\nBest of 6 rounds count toward the final series awards \n\n\nCheck-in: 6:00–6:30 PM \n\n\nRace Start: 6:45 PM sharp \n\n\nEntry Fee: £7 \n\n\nTransponder Hire: £5 \n\n\nWhether you’re chasing podiums or just out for fun\, come join the action! Got questions? Speak to your coaches or a committee member. See you on the gate! \n🔗 Event Info & Registration: Register\n🔗 Sqorz updates and results: Sqorz\n🔗 Updates on Instagram: Instagram\n🔗 Updates on Facebook: Facebook
URL:https://theburm.com/races/round-2-royston-rockets-summer-series-2025/
LOCATION:Royston BMX Club\, Royston BMX\, Hertfordshire\, United Kingdom
CATEGORIES:EA BMX,Royston Rockets
ATTACH;FMTTYPE=image/webp:https://theburm.com/wp-content/uploads/2025/04/Royston-BMX-Club-e1744801241108.webp
ORGANIZER;CN="Royston Rockets":MAILTO:roystonbmx@gmail.com
END:VEVENT
BEGIN:VEVENT
DTSTART;TZID=Europe/London:20250401T180000
DTEND;TZID=Europe/London:20250401T203000
DTSTAMP:20260421T130447
CREATED:20250414T195229Z
LAST-MODIFIED:20250416T111618Z
UID:10000032-1743530400-1743539400@theburm.com
SUMMARY:Round 1 - Royston Rockets Summer Series 2025
DESCRIPTION:🏁 Royston Rockets Summer Series 2025 – Let’s Go Racing! \nGet ready for an exciting season of BMX action as the Royston Rockets Summer Series 2025 is under way.! This is your chance to hit the gate with riders from Royston and beyond—open to all club members and visiting riders. \n🗓️ Race Details \n\n\nBest of 6 rounds count toward the final series awards \n\n\nCheck-in: 6:00–6:30 PM \n\n\nRace Start: 6:45 PM sharp \n\n\nEntry Fee: £7 \n\n\nTransponder Hire: £5 \n\n\nWhether you’re chasing podiums or just out for fun\, come join the action! Got questions? Speak to your coaches or a committee member. See you on the gate! \n🔗 Event Info & Registration: Register\n🔗 Sqorz updates and results: Sqorz\n🔗 Updates on Instagram: Instagram\n🔗 Updates on Facebook: Facebook
URL:https://theburm.com/races/round-1-royston-rockets-summer-series-2025/
LOCATION:Royston BMX Club\, Royston BMX\, Hertfordshire\, United Kingdom
CATEGORIES:EA BMX,Royston Rockets
ATTACH;FMTTYPE=image/webp:https://theburm.com/wp-content/uploads/2025/04/Royston-BMX-Club-e1744801241108.webp
ORGANIZER;CN="Royston Rockets":MAILTO:roystonbmx@gmail.com
END:VEVENT
END:VCALENDAR