BEGIN:VCALENDAR
VERSION:2.0
PRODID:-//The Burm - ECPv6.15.20//NONSGML v1.0//EN
CALSCALE:GREGORIAN
METHOD:PUBLISH
X-WR-CALNAME:The Burm
X-ORIGINAL-URL:https://theburm.com
X-WR-CALDESC:Events for The Burm
REFRESH-INTERVAL;VALUE=DURATION:PT1H
X-Robots-Tag:noindex
X-PUBLISHED-TTL:PT1H
BEGIN:VTIMEZONE
TZID:Europe/London
BEGIN:DAYLIGHT
TZOFFSETFROM:+0000
TZOFFSETTO:+0100
TZNAME:BST
DTSTART:20240331T010000
END:DAYLIGHT
BEGIN:STANDARD
TZOFFSETFROM:+0100
TZOFFSETTO:+0000
TZNAME:GMT
DTSTART:20241027T010000
END:STANDARD
BEGIN:DAYLIGHT
TZOFFSETFROM:+0000
TZOFFSETTO:+0100
TZNAME:BST
DTSTART:20250330T010000
END:DAYLIGHT
BEGIN:STANDARD
TZOFFSETFROM:+0100
TZOFFSETTO:+0000
TZNAME:GMT
DTSTART:20251026T010000
END:STANDARD
BEGIN:DAYLIGHT
TZOFFSETFROM:+0000
TZOFFSETTO:+0100
TZNAME:BST
DTSTART:20260329T010000
END:DAYLIGHT
BEGIN:STANDARD
TZOFFSETFROM:+0100
TZOFFSETTO:+0000
TZNAME:GMT
DTSTART:20261025T010000
END:STANDARD
END:VTIMEZONE
BEGIN:VEVENT
DTSTART;TZID=Europe/London:20251019T000000
DTEND;TZID=Europe/London:20251019T000000
DTSTAMP:20260421T103142
CREATED:20250421T192626Z
LAST-MODIFIED:20250513T095123Z
UID:10000093-1760832000-1760832000@theburm.com
SUMMARY:Peterborough 2025 Club Race Series - Round 8
DESCRIPTION:Peterborough 2025 BMX Racing Club Race Series Round 8 \n👉 Updates and Information: Facebook\n✅ British Cycling description: BC Website\n📲 Book via Spond using group code: QSCXY\n🚴 Sqorz Results: Results\n📅 Full race series here \n🚴‍♂️ Peterborough 2025 BMX Races 🚴‍♀️Get ready for an adrenaline-packed day of BMX action at one of the region’s top tracks! Whether you’re chasing podiums or just love the thrill of racing\, Peterborough BMX Club is the place to be. \n🔥 Peterborough Race Classes for 2025: \n\n\n9 & under \n\n\n10–12 \n\n\n13–15 \n\n\n16+ \n\n\nCruiser \n\n\n✅ Cruiser and 20” will race separately – no merging of classes!📣 Want to ride out of your age group? Just message us when booking! \n🗓 Race Day Info: Peterborough 2025 BMX Racing Club Race Series Round 8 \n\n\nEntries close: Friday 9th May at 18:00 \n\n\nGates open: 12:00–12:30 \n\n\nRacing begins shortly after \n\n\nBring the energy\, your best race gear\, and let’s make it a race day to remember! 🏁
URL:https://theburm.com/races/peterborough-2025-club-race-series-round-8/
LOCATION:Peterborough Phantoms BMX Club\, Benyon Grove\,\, Peterborough\, PE2 5HP\, United Kingdom
CATEGORIES:EA BMX,Peterborough Phantoms BMX Club
ATTACH;FMTTYPE=image/jpeg:https://theburm.com/wp-content/uploads/2025/04/Peterborough-Phantoms-BMX-Club-e1745261957405-psMm9X.tmp_.jpg
ORGANIZER;CN="Peterborough BMX Club":MAILTO:info@peterboroughbmxclub.com
END:VEVENT
BEGIN:VEVENT
DTSTART;TZID=Europe/London:20250921T000000
DTEND;TZID=Europe/London:20250921T000000
DTSTAMP:20260421T103142
CREATED:20250421T192625Z
LAST-MODIFIED:20250505T123632Z
UID:10000092-1758412800-1758412800@theburm.com
SUMMARY:Peterborough 2025 Club Race Series - Round 7
DESCRIPTION:👉 Updates and Information: Facebook\n✅ British Cycling description: BC Website\n📲 Book via Spond using group code: QSCXY\n🚴 Sqorz Results: Results \n🚴‍♂️ Peterborough 2025 BMX Races 🚴‍♀️Get ready for an adrenaline-packed day of BMX action at one of the region’s top tracks! Whether you’re chasing podiums or just love the thrill of racing\, Peterborough BMX Club is the place to be. \n🔥 Race Classes: \n\n\n9 & under \n\n\n10–12 \n\n\n13–15 \n\n\n16+ \n\n\nCruiser \n\n\n✅ Cruiser and 20” will race separately – no merging of classes!📣 Want to ride out of your age group? Just message us when booking! \n🗓 Race Day Info: \n\n\nEntries close: Friday 9th May at 18:00 \n\n\nGates open: 12:00–12:30 \n\n\nRacing begins shortly after \n\n\nBring the energy\, your best race gear\, and let’s make it a race day to remember! 🏁
URL:https://theburm.com/races/peterborough-2025-club-race-series-round-7/
LOCATION:Peterborough Phantoms BMX Club\, Benyon Grove\,\, Peterborough\, PE2 5HP\, United Kingdom
CATEGORIES:EA BMX,Peterborough Phantoms BMX Club
ATTACH;FMTTYPE=image/jpeg:https://theburm.com/wp-content/uploads/2025/04/Peterborough-Phantoms-BMX-Club-e1745261957405-psMm9X.tmp_.jpg
ORGANIZER;CN="Peterborough BMX Club":MAILTO:info@peterboroughbmxclub.com
END:VEVENT
BEGIN:VEVENT
DTSTART;TZID=Europe/London:20250810T000000
DTEND;TZID=Europe/London:20250810T000000
DTSTAMP:20260421T103142
CREATED:20250421T192624Z
LAST-MODIFIED:20250505T123139Z
UID:10000091-1754784000-1754784000@theburm.com
SUMMARY:Peterborough 2025 Club Race Series - Round 6
DESCRIPTION:👉 Updates and Information: Facebook\n✅ British Cycling description: BC Website\n📲 Book via Spond using group code: QSCXY\n🚴 Sqorz Results: Results \n🚴‍♂️ Peterborough 2025 BMX Races 🚴‍♀️Get ready for an adrenaline-packed day of BMX action at one of the region’s top tracks! Whether you’re chasing podiums or just love the thrill of racing\, Peterborough BMX Club is the place to be. \n🔥 Race Classes: \n\n\n9 & under \n\n\n10–12 \n\n\n13–15 \n\n\n16+ \n\n\nCruiser \n\n\n✅ Cruiser and 20” will race separately – no merging of classes!📣 Want to ride out of your age group? Just message us when booking! \n🗓 Race Day Info: \n\n\nEntries close: Friday 9th May at 18:00 \n\n\nGates open: 12:00–12:30 \n\n\nRacing begins shortly after \n\n\nBring the energy\, your best race gear\, and let’s make it a race day to remember! 🏁
URL:https://theburm.com/races/peterborough-2025-club-race-series-round-6/
LOCATION:Peterborough Phantoms BMX Club\, Benyon Grove\,\, Peterborough\, PE2 5HP\, United Kingdom
CATEGORIES:EA BMX,Peterborough Phantoms BMX Club
ATTACH;FMTTYPE=image/jpeg:https://theburm.com/wp-content/uploads/2025/04/Peterborough-Phantoms-BMX-Club-e1745261957405-psMm9X.tmp_.jpg
ORGANIZER;CN="Peterborough BMX Club":MAILTO:info@peterboroughbmxclub.com
END:VEVENT
BEGIN:VEVENT
DTSTART;TZID=Europe/London:20250713T000000
DTEND;TZID=Europe/London:20250713T000000
DTSTAMP:20260421T103142
CREATED:20250421T192624Z
LAST-MODIFIED:20250505T123208Z
UID:10000090-1752364800-1752364800@theburm.com
SUMMARY:Peterborough 2025 Club Race Series - Round 5
DESCRIPTION:👉 Updates and Information: Facebook\n✅ British Cycling description: BC Website\n📲 Book via Spond using group code: QSCXY\n🚴 Sqorz Results: Results \n🚴‍♂️ Peterborough 2025 BMX Races 🚴‍♀️Get ready for an adrenaline-packed day of BMX action at one of the region’s top tracks! Whether you’re chasing podiums or just love the thrill of racing\, Peterborough BMX Club is the place to be. \n🔥 Race Classes: \n\n\n9 & under \n\n\n10–12 \n\n\n13–15 \n\n\n16+ \n\n\nCruiser \n\n\n✅ Cruiser and 20” will race separately – no merging of classes!📣 Want to ride out of your age group? Just message us when booking! \n🗓 Race Day Info: \n\n\nEntries close: Friday 9th May at 18:00 \n\n\nGates open: 12:00–12:30 \n\n\nRacing begins shortly after \n\n\nBring the energy\, your best race gear\, and let’s make it a race day to remember! 🏁
URL:https://theburm.com/races/peterborough-2025-club-race-series-round-5/
LOCATION:Peterborough Phantoms BMX Club\, Benyon Grove\,\, Peterborough\, PE2 5HP\, United Kingdom
CATEGORIES:EA BMX,Peterborough Phantoms BMX Club
ATTACH;FMTTYPE=image/jpeg:https://theburm.com/wp-content/uploads/2025/04/Peterborough-Phantoms-BMX-Club-e1745261957405-psMm9X.tmp_.jpg
ORGANIZER;CN="Peterborough BMX Club":MAILTO:info@peterboroughbmxclub.com
END:VEVENT
BEGIN:VEVENT
DTSTART;TZID=Europe/London:20250622T000000
DTEND;TZID=Europe/London:20250622T000000
DTSTAMP:20260421T103142
CREATED:20250421T192623Z
LAST-MODIFIED:20250505T123231Z
UID:10000089-1750550400-1750550400@theburm.com
SUMMARY:Peterborough 2025 Club Race Series - Round 4
DESCRIPTION:👉 Updates and Information: Facebook\n✅ British Cycling description: BC Website\n📲 Book via Spond using group code: QSCXY\n🚴 Sqorz Results: Results \n🚴‍♂️ Peterborough 2025 BMX Races 🚴‍♀️Get ready for an adrenaline-packed day of BMX action at one of the region’s top tracks! Whether you’re chasing podiums or just love the thrill of racing\, Peterborough BMX Club is the place to be. \n🔥 Race Classes: \n\n\n9 & under \n\n\n10–12 \n\n\n13–15 \n\n\n16+ \n\n\nCruiser \n\n\n✅ Cruiser and 20” will race separately – no merging of classes!📣 Want to ride out of your age group? Just message us when booking! \n🗓 Race Day Info: \n\n\nEntries close: Friday 9th May at 18:00 \n\n\nGates open: 12:00–12:30 \n\n\nRacing begins shortly after \n\n\nBring the energy\, your best race gear\, and let’s make it a race day to remember! 🏁
URL:https://theburm.com/races/peterborough-2025-club-race-series-round-4/
LOCATION:Peterborough Phantoms BMX Club\, Benyon Grove\,\, Peterborough\, PE2 5HP\, United Kingdom
CATEGORIES:EA BMX,Peterborough Phantoms BMX Club
ATTACH;FMTTYPE=image/jpeg:https://theburm.com/wp-content/uploads/2025/04/Peterborough-Phantoms-BMX-Club-e1745261957405-psMm9X.tmp_.jpg
ORGANIZER;CN="Peterborough BMX Club":MAILTO:info@peterboroughbmxclub.com
END:VEVENT
BEGIN:VEVENT
DTSTART;TZID=Europe/London:20250511T000000
DTEND;TZID=Europe/London:20250511T000000
DTSTAMP:20260421T103142
CREATED:20250421T192611Z
LAST-MODIFIED:20250505T123528Z
UID:10000088-1746921600-1746921600@theburm.com
SUMMARY:Peterborough 2025 Club Race Series - Round 3
DESCRIPTION:👉 Updates and Information: Facebook\n✅ British Cycling description: BC Website\n📲 Book via Spond using group code: QSCXY\n🚴 Sqorz Results: Results \n🚴‍♂️ Peterborough 2025 BMX Races 🚴‍♀️Get ready for an adrenaline-packed day of BMX action at one of the region’s top tracks! Whether you’re chasing podiums or just love the thrill of racing\, Peterborough BMX Club is the place to be. \n🔥 Race Classes: \n\n\n9 & under \n\n\n10–12 \n\n\n13–15 \n\n\n16+ \n\n\nCruiser \n\n\n✅ Cruiser and 20” will race separately – no merging of classes!📣 Want to ride out of your age group? Just message us when booking! \n🗓 Race Day Info: \n\n\nEntries close: Friday 9th May at 18:00 \n\n\nGates open: 12:00–12:30 \n\n\nRacing begins shortly after \n\n\nBring the energy\, your best race gear\, and let’s make it a race day to remember! 🏁
URL:https://theburm.com/races/peterborough-2025-club-race-series-round-3/
LOCATION:Peterborough Phantoms BMX Club\, Benyon Grove\,\, Peterborough\, PE2 5HP\, United Kingdom
CATEGORIES:EA BMX,Peterborough Phantoms BMX Club
ATTACH;FMTTYPE=image/jpeg:https://theburm.com/wp-content/uploads/2025/04/Peterborough-Phantoms-BMX-Club-e1745261957405-psMm9X.tmp_.jpg
ORGANIZER;CN="Peterborough BMX Club":MAILTO:info@peterboroughbmxclub.com
END:VEVENT
BEGIN:VEVENT
DTSTART;TZID=Europe/London:20250420T000000
DTEND;TZID=Europe/London:20250420T000000
DTSTAMP:20260421T103142
CREATED:20250421T192610Z
LAST-MODIFIED:20250505T123541Z
UID:10000087-1745107200-1745107200@theburm.com
SUMMARY:Peterborough 2025 Club Race Series - Round 2
DESCRIPTION:👉 Updates and Information: Facebook\n✅ British Cycling description: BC Website\n📲 Book via Spond using group code: QSCXY\n🚴 Sqorz Results: Results \n🚴‍♂️ Peterborough 2025 BMX Races 🚴‍♀️Get ready for an adrenaline-packed day of BMX action at one of the region’s top tracks! Whether you’re chasing podiums or just love the thrill of racing\, Peterborough BMX Club is the place to be. \n🔥 Race Classes: \n\n\n9 & under \n\n\n10–12 \n\n\n13–15 \n\n\n16+ \n\n\nCruiser \n\n\n✅ Cruiser and 20” will race separately – no merging of classes!📣 Want to ride out of your age group? Just message us when booking! \n🗓 Race Day Info: \n\n\nEntries close: Friday 9th May at 18:00 \n\n\nGates open: 12:00–12:30 \n\n\nRacing begins shortly after \n\n\nBring the energy\, your best race gear\, and let’s make it a race day to remember! 🏁
URL:https://theburm.com/races/peterborough-2025-club-race-series-round-2/
LOCATION:Peterborough Phantoms BMX Club\, Benyon Grove\,\, Peterborough\, PE2 5HP\, United Kingdom
CATEGORIES:EA BMX,Peterborough Phantoms BMX Club
ATTACH;FMTTYPE=image/jpeg:https://theburm.com/wp-content/uploads/2025/04/Peterborough-Phantoms-BMX-Club-e1745261957405-psMm9X.tmp_.jpg
ORGANIZER;CN="Peterborough BMX Club":MAILTO:info@peterboroughbmxclub.com
END:VEVENT
BEGIN:VEVENT
DTSTART;TZID=Europe/London:20250330T000000
DTEND;TZID=Europe/London:20250330T000000
DTSTAMP:20260421T103142
CREATED:20250421T192609Z
LAST-MODIFIED:20250505T123558Z
UID:10000086-1743292800-1743292800@theburm.com
SUMMARY:Peterborough 2025 Club Race Series - Round 1
DESCRIPTION:👉 Updates and Information: Facebook\n✅ British Cycling description: BC Website\n📲 Book via Spond using group code: QSCXY\n🚴 Sqorz Results: Results \n🚴‍♂️ Peterborough 2025 BMX Races 🚴‍♀️Get ready for an adrenaline-packed day of BMX action at one of the region’s top tracks! Whether you’re chasing podiums or just love the thrill of racing\, Peterborough BMX Club is the place to be. \n🔥 Race Classes: \n\n\n9 & under \n\n\n10–12 \n\n\n13–15 \n\n\n16+ \n\n\nCruiser \n\n\n✅ Cruiser and 20” will race separately – no merging of classes!📣 Want to ride out of your age group? Just message us when booking! \n🗓 Race Day Info: \n\n\nEntries close: Friday 9th May at 18:00 \n\n\nGates open: 12:00–12:30 \n\n\nRacing begins shortly after \n\n\nBring the energy\, your best race gear\, and let’s make it a race day to remember! 🏁
URL:https://theburm.com/races/peterborough-2025-club-race-series-round-1/
LOCATION:Peterborough Phantoms BMX Club\, Benyon Grove\,\, Peterborough\, PE2 5HP\, United Kingdom
CATEGORIES:EA BMX,Peterborough Phantoms BMX Club
ATTACH;FMTTYPE=image/jpeg:https://theburm.com/wp-content/uploads/2025/04/Peterborough-Phantoms-BMX-Club-e1745261957405-psMm9X.tmp_.jpg
ORGANIZER;CN="Peterborough BMX Club":MAILTO:info@peterboroughbmxclub.com
END:VEVENT
END:VCALENDAR