BEGIN:VCALENDAR
VERSION:2.0
PRODID:-//The Burm - ECPv6.15.20//NONSGML v1.0//EN
CALSCALE:GREGORIAN
METHOD:PUBLISH
X-ORIGINAL-URL:https://theburm.com
X-WR-CALDESC:Events for The Burm
REFRESH-INTERVAL;VALUE=DURATION:PT1H
X-Robots-Tag:noindex
X-PUBLISHED-TTL:PT1H
BEGIN:VTIMEZONE
TZID:Europe/London
BEGIN:DAYLIGHT
TZOFFSETFROM:+0000
TZOFFSETTO:+0100
TZNAME:BST
DTSTART:20240331T010000
END:DAYLIGHT
BEGIN:STANDARD
TZOFFSETFROM:+0100
TZOFFSETTO:+0000
TZNAME:GMT
DTSTART:20241027T010000
END:STANDARD
BEGIN:DAYLIGHT
TZOFFSETFROM:+0000
TZOFFSETTO:+0100
TZNAME:BST
DTSTART:20250330T010000
END:DAYLIGHT
BEGIN:STANDARD
TZOFFSETFROM:+0100
TZOFFSETTO:+0000
TZNAME:GMT
DTSTART:20251026T010000
END:STANDARD
BEGIN:DAYLIGHT
TZOFFSETFROM:+0000
TZOFFSETTO:+0100
TZNAME:BST
DTSTART:20260329T010000
END:DAYLIGHT
BEGIN:STANDARD
TZOFFSETFROM:+0100
TZOFFSETTO:+0000
TZNAME:GMT
DTSTART:20261025T010000
END:STANDARD
END:VTIMEZONE
BEGIN:VEVENT
DTSTART;TZID=Europe/London:20251011T140000
DTEND;TZID=Europe/London:20251011T173000
DTSTAMP:20260422T005511
CREATED:20250421T192608Z
LAST-MODIFIED:20250503T195310Z
UID:10000085-1760191200-1760203800@theburm.com
SUMMARY:Manchester BMX Super Saturday - Round 7
DESCRIPTION:Manchester BMX Super Saturday Series Round 7 \n📍 Everything you need to know: \n\n🛠 Event Website: Manchester BMX Website\n📣 Event Updates & Announcements: Manchester BMX Facebook + Instagram\n🏆 Results: Live results on Sqorz\n\nAbout the event\n\n\n\nGet ready for a high-energy\, wheel-spinning adventure — the Manchester BMX Super Saturday race series is back and better than ever! Whether you’re just starting out or you’re a seasoned pro chasing the podium\, this is the perfect event to test your skills\, make new friends\, and feel the thrill of the race. \n🔥 Who Can Race?We’ve got something for everyone: \n\n\nNovices – New to BMX? No problem! Come have a blast in a friendly\, supportive environment. \n\n\nExperts – Bring your A-game (and your MYLAPS transponder) — the competition is fierce and the track is fast! \n\n\n🏆 Series Rules & Rewards: \n\n\nYour best 6 results count toward the overall series standings. \n\n\nComplete 5 events and you’ll qualify for an awesome end-of-season trophy – perfect for the shelf (or bragging rights)! \n\n\nBalance Bike Racers (ages 2–5) get their moment in the spotlight too\, racing half the track in a non-series category — and every rider goes home with a shiny medal 🥇 \n\n\n🕒 Race Day Schedule: \n\n\n2:00–3:00 PM – Registration & Practice: Hit the track\, dial in your lines\, and get warmed up! \n\n\n3:30 PM – Racing Kicks Off: Let the good times roll! \n\n\n5:30 PM (approx) – Racing Wraps Up: Time for fist bumps\, photos\, and a few well-earned snacks. \n\n\nBring your bike\, your helmet\, and your best racing spirit. It’s BMX Saturdays done right — fast\, fun\, and full of community vibes. 🚴‍♂️💨
URL:https://theburm.com/races/manchester-bmx-super-saturday-round-7/
LOCATION:Manchester BMX Club\, Platt Fields Park Platt Fields Park\, Fallowfield\, Manchester\, M14 6LA\, United Kingdom
CATEGORIES:Manchester BMX,North
ATTACH;FMTTYPE=image/png:https://theburm.com/wp-content/uploads/2025/04/Manchester-BMX-Club.png
ORGANIZER;CN="Manchester BMX Club":MAILTO:mbmxsec@gmail.com
END:VEVENT
BEGIN:VEVENT
DTSTART;TZID=Europe/London:20250927T140000
DTEND;TZID=Europe/London:20250927T173000
DTSTAMP:20260422T005511
CREATED:20250421T192607Z
LAST-MODIFIED:20250503T194659Z
UID:10000084-1758981600-1758994200@theburm.com
SUMMARY:Manchester BMX Super Saturday - Round 6
DESCRIPTION:Manchester BMX Super Saturday Series Round 6 \n📍 Everything you need to know: \n\n🛠 Event Website: Manchester BMX Website\n📣 Event Updates & Announcements: Manchester BMX Facebook + Instagram\n🏆 Results: Live results on Sqorz\n\nAbout the event\n\n\n\nGet ready for a high-energy\, wheel-spinning adventure — the Manchester BMX Super Saturday race series is back and better than ever! Whether you’re just starting out or you’re a seasoned pro chasing the podium\, this is the perfect event to test your skills\, make new friends\, and feel the thrill of the race. \n🔥 Who Can Race?We’ve got something for everyone: \n\n\nNovices – New to BMX? No problem! Come have a blast in a friendly\, supportive environment. \n\n\nExperts – Bring your A-game (and your MYLAPS transponder) — the competition is fierce and the track is fast! \n\n\n🏆 Series Rules & Rewards: \n\n\nYour best 6 results count toward the overall series standings. \n\n\nComplete 5 events and you’ll qualify for an awesome end-of-season trophy – perfect for the shelf (or bragging rights)! \n\n\nBalance Bike Racers (ages 2–5) get their moment in the spotlight too\, racing half the track in a non-series category — and every rider goes home with a shiny medal 🥇 \n\n\n🕒 Race Day Schedule: \n\n\n2:00–3:00 PM – Registration & Practice: Hit the track\, dial in your lines\, and get warmed up! \n\n\n3:30 PM – Racing Kicks Off: Let the good times roll! \n\n\n5:30 PM (approx) – Racing Wraps Up: Time for fist bumps\, photos\, and a few well-earned snacks. \n\n\nBring your bike\, your helmet\, and your best racing spirit. It’s BMX Saturdays done right — fast\, fun\, and full of community vibes. 🚴‍♂️💨
URL:https://theburm.com/races/manchester-bmx-super-saturday-round-6/
LOCATION:Manchester BMX Club\, Platt Fields Park Platt Fields Park\, Fallowfield\, Manchester\, M14 6LA\, United Kingdom
CATEGORIES:Manchester BMX,North
ATTACH;FMTTYPE=image/png:https://theburm.com/wp-content/uploads/2025/04/Manchester-BMX-Club.png
ORGANIZER;CN="Manchester BMX Club":MAILTO:mbmxsec@gmail.com
END:VEVENT
BEGIN:VEVENT
DTSTART;TZID=Europe/London:20250913T140000
DTEND;TZID=Europe/London:20250913T173000
DTSTAMP:20260422T005511
CREATED:20250421T192606Z
LAST-MODIFIED:20250503T195344Z
UID:10000083-1757772000-1757784600@theburm.com
SUMMARY:Manchester BMX Super Saturday - Round 5
DESCRIPTION:Manchester BMX Super Saturday Series Round 5 \n📍 Everything you need to know: \n\n🛠 Event Website: Manchester BMX Website\n📣 Event Updates & Announcements: Manchester BMX Facebook + Instagram\n🏆 Results: Live results on Sqorz\n\nAbout the event\n\n\n\nGet ready for a high-energy\, wheel-spinning adventure — the Manchester BMX Super Saturday race series is back and better than ever! Whether you’re just starting out or you’re a seasoned pro chasing the podium\, this is the perfect event to test your skills\, make new friends\, and feel the thrill of the race. \n🔥 Who Can Race?We’ve got something for everyone: \n\n\nNovices – New to BMX? No problem! Come have a blast in a friendly\, supportive environment. \n\n\nExperts – Bring your A-game (and your MYLAPS transponder) — the competition is fierce and the track is fast! \n\n\n🏆 Series Rules & Rewards: \n\n\nYour best 6 results count toward the overall series standings. \n\n\nComplete 5 events and you’ll qualify for an awesome end-of-season trophy – perfect for the shelf (or bragging rights)! \n\n\nBalance Bike Racers (ages 2–5) get their moment in the spotlight too\, racing half the track in a non-series category — and every rider goes home with a shiny medal 🥇 \n\n\n🕒 Race Day Schedule: \n\n\n2:00–3:00 PM – Registration & Practice: Hit the track\, dial in your lines\, and get warmed up! \n\n\n3:30 PM – Racing Kicks Off: Let the good times roll! \n\n\n5:30 PM (approx) – Racing Wraps Up: Time for fist bumps\, photos\, and a few well-earned snacks. \n\n\nBring your bike\, your helmet\, and your best racing spirit. It’s BMX Saturdays done right — fast\, fun\, and full of community vibes. 🚴‍♂️💨 \n\n\n\n 
URL:https://theburm.com/races/manchester-bmx-super-saturday-round-5/
LOCATION:Manchester BMX Club\, Platt Fields Park Platt Fields Park\, Fallowfield\, Manchester\, M14 6LA\, United Kingdom
CATEGORIES:Manchester BMX,North
ATTACH;FMTTYPE=image/png:https://theburm.com/wp-content/uploads/2025/04/Manchester-BMX-Club.png
ORGANIZER;CN="Manchester BMX Club":MAILTO:mbmxsec@gmail.com
END:VEVENT
BEGIN:VEVENT
DTSTART;TZID=Europe/London:20250726T140000
DTEND;TZID=Europe/London:20250726T173000
DTSTAMP:20260422T005511
CREATED:20250421T192605Z
LAST-MODIFIED:20250503T195141Z
UID:10000082-1753538400-1753551000@theburm.com
SUMMARY:Manchester BMX Super Saturday - Round 4
DESCRIPTION:Manchester BMX Super Saturday Series Round 4 \n📍 Everything you need to know: \n\n🛠 Event Website: Manchester BMX Website\n📣 Event Updates & Announcements: Manchester BMX Facebook + Instagram\n🏆 Results: Live results on Sqorz\n\nAbout the event\n\n\n\nGet ready for a high-energy\, wheel-spinning adventure — the Manchester BMX Super Saturday race series is back and better than ever! Whether you’re just starting out or you’re a seasoned pro chasing the podium\, this is the perfect event to test your skills\, make new friends\, and feel the thrill of the race. \n🔥 Who Can Race?We’ve got something for everyone: \n\n\nNovices – New to BMX? No problem! Come have a blast in a friendly\, supportive environment. \n\n\nExperts – Bring your A-game (and your MYLAPS transponder) — the competition is fierce and the track is fast! \n\n\n🏆 Series Rules & Rewards: \n\n\nYour best 6 results count toward the overall series standings. \n\n\nComplete 5 events and you’ll qualify for an awesome end-of-season trophy – perfect for the shelf (or bragging rights)! \n\n\nBalance Bike Racers (ages 2–5) get their moment in the spotlight too\, racing half the track in a non-series category — and every rider goes home with a shiny medal 🥇 \n\n\n🕒 Race Day Schedule: \n\n\n2:00–3:00 PM – Registration & Practice: Hit the track\, dial in your lines\, and get warmed up! \n\n\n3:30 PM – Racing Kicks Off: Let the good times roll! \n\n\n5:30 PM (approx) – Racing Wraps Up: Time for fist bumps\, photos\, and a few well-earned snacks. \n\n\nBring your bike\, your helmet\, and your best racing spirit. It’s BMX Saturdays done right — fast\, fun\, and full of community vibes. 🚴‍♂️💨
URL:https://theburm.com/races/manchester-bmx-super-saturday-round-4/
LOCATION:Manchester BMX Club\, Platt Fields Park Platt Fields Park\, Fallowfield\, Manchester\, M14 6LA\, United Kingdom
CATEGORIES:Manchester BMX,North
ATTACH;FMTTYPE=image/png:https://theburm.com/wp-content/uploads/2025/04/Manchester-BMX-Club.png
ORGANIZER;CN="Manchester BMX Club":MAILTO:mbmxsec@gmail.com
END:VEVENT
BEGIN:VEVENT
DTSTART;TZID=Europe/London:20250628T140000
DTEND;TZID=Europe/London:20250628T173000
DTSTAMP:20260422T005511
CREATED:20250421T192604Z
LAST-MODIFIED:20250503T194927Z
UID:10000081-1751119200-1751131800@theburm.com
SUMMARY:Manchester BMX Super Saturday - Round 3
DESCRIPTION:Manchester BMX Super Saturday Series Round 3 \n📍 Everything you need to know: \n\n🛠 Event Website: Manchester BMX Website\n📣 Event Updates & Announcements: Manchester BMX Facebook + Instagram\n🏆 Results: Live results on Sqorz\n\nAbout the event\n\n\n\nGet ready for a high-energy\, wheel-spinning adventure — the Manchester BMX Super Saturday race series is back and better than ever! Whether you’re just starting out or you’re a seasoned pro chasing the podium\, this is the perfect event to test your skills\, make new friends\, and feel the thrill of the race. \n🔥 Who Can Race?We’ve got something for everyone: \n\n\nNovices – New to BMX? No problem! Come have a blast in a friendly\, supportive environment. \n\n\nExperts – Bring your A-game (and your MYLAPS transponder) — the competition is fierce and the track is fast! \n\n\n🏆 Series Rules & Rewards: \n\n\nYour best 6 results count toward the overall series standings. \n\n\nComplete 5 events and you’ll qualify for an awesome end-of-season trophy – perfect for the shelf (or bragging rights)! \n\n\nBalance Bike Racers (ages 2–5) get their moment in the spotlight too\, racing half the track in a non-series category — and every rider goes home with a shiny medal 🥇 \n\n\n🕒 Race Day Schedule: \n\n\n2:00–3:00 PM – Registration & Practice: Hit the track\, dial in your lines\, and get warmed up! \n\n\n3:30 PM – Racing Kicks Off: Let the good times roll! \n\n\n5:30 PM (approx) – Racing Wraps Up: Time for fist bumps\, photos\, and a few well-earned snacks. \n\n\nBring your bike\, your helmet\, and your best racing spirit. It’s BMX Saturdays done right — fast\, fun\, and full of community vibes. 🚴‍♂️💨
URL:https://theburm.com/races/manchester-bmx-super-saturday-round-3/
LOCATION:Manchester BMX Club\, Platt Fields Park Platt Fields Park\, Fallowfield\, Manchester\, M14 6LA\, United Kingdom
CATEGORIES:Manchester BMX,North
ATTACH;FMTTYPE=image/png:https://theburm.com/wp-content/uploads/2025/04/Manchester-BMX-Club.png
ORGANIZER;CN="Manchester BMX Club":MAILTO:mbmxsec@gmail.com
END:VEVENT
BEGIN:VEVENT
DTSTART;TZID=Europe/London:20250426T140000
DTEND;TZID=Europe/London:20250426T173000
DTSTAMP:20260422T005511
CREATED:20250421T192604Z
LAST-MODIFIED:20250503T195033Z
UID:10000080-1745676000-1745688600@theburm.com
SUMMARY:Manchester BMX Super Saturday - Round 2
DESCRIPTION:Manchester BMX Super Saturday Series Round 2 \n📍 Everything you need to know: \n\n🛠 Event Website: Manchester BMX Website\n📣 Event Updates & Announcements: Manchester BMX Facebook + Instagram\n🏆 Results: Live results on Sqorz\n\nAbout the event\n\n\n\nGet ready for a high-energy\, wheel-spinning adventure — the Manchester BMX Super Saturday race series is back and better than ever! Whether you’re just starting out or you’re a seasoned pro chasing the podium\, this is the perfect event to test your skills\, make new friends\, and feel the thrill of the race. \n🔥 Who Can Race?We’ve got something for everyone: \n\n\nNovices – New to BMX? No problem! Come have a blast in a friendly\, supportive environment. \n\n\nExperts – Bring your A-game (and your MYLAPS transponder) — the competition is fierce and the track is fast! \n\n\n🏆 Series Rules & Rewards: \n\n\nYour best 6 results count toward the overall series standings. \n\n\nComplete 5 events and you’ll qualify for an awesome end-of-season trophy – perfect for the shelf (or bragging rights)! \n\n\nBalance Bike Racers (ages 2–5) get their moment in the spotlight too\, racing half the track in a non-series category — and every rider goes home with a shiny medal 🥇 \n\n\n🕒 Race Day Schedule: \n\n\n2:00–3:00 PM – Registration & Practice: Hit the track\, dial in your lines\, and get warmed up! \n\n\n3:30 PM – Racing Kicks Off: Let the good times roll! \n\n\n5:30 PM (approx) – Racing Wraps Up: Time for fist bumps\, photos\, and a few well-earned snacks. \n\n\nBring your bike\, your helmet\, and your best racing spirit. It’s BMX Saturdays done right — fast\, fun\, and full of community vibes. 🚴‍♂️💨
URL:https://theburm.com/races/manchester-bmx-super-saturday-round-2/
LOCATION:Manchester BMX Club\, Platt Fields Park Platt Fields Park\, Fallowfield\, Manchester\, M14 6LA\, United Kingdom
CATEGORIES:Manchester BMX,North
ATTACH;FMTTYPE=image/png:https://theburm.com/wp-content/uploads/2025/04/Manchester-BMX-Club.png
ORGANIZER;CN="Manchester BMX Club":MAILTO:mbmxsec@gmail.com
END:VEVENT
BEGIN:VEVENT
DTSTART;TZID=Europe/London:20250315T140000
DTEND;TZID=Europe/London:20250315T173000
DTSTAMP:20260422T005511
CREATED:20250421T192603Z
LAST-MODIFIED:20250503T195434Z
UID:10000079-1742047200-1742059800@theburm.com
SUMMARY:Manchester BMX Super Saturday - Round 1
DESCRIPTION:Manchester BMX Super Saturday Series Round 1 \n📍 Everything you need to know: \n\n🛠 Event Website: Manchester BMX Website\n📣 Event Updates & Announcements: Manchester BMX Facebook + Instagram\n🏆 Results: Live results on Sqorz\n\nAbout the event\n\n\n\nGet ready for a high-energy\, wheel-spinning adventure — the Manchester BMX Super Saturday race series is back and better than ever! Whether you’re just starting out or you’re a seasoned pro chasing the podium\, this is the perfect event to test your skills\, make new friends\, and feel the thrill of the race. \n🔥 Who Can Race?We’ve got something for everyone: \n\n\nNovices – New to BMX? No problem! Come have a blast in a friendly\, supportive environment. \n\n\nExperts – Bring your A-game (and your MYLAPS transponder) — the competition is fierce and the track is fast! \n\n\n🏆 Series Rules & Rewards: \n\n\nYour best 6 results count toward the overall series standings. \n\n\nComplete 5 events and you’ll qualify for an awesome end-of-season trophy – perfect for the shelf (or bragging rights)! \n\n\nBalance Bike Racers (ages 2–5) get their moment in the spotlight too\, racing half the track in a non-series category — and every rider goes home with a shiny medal 🥇 \n\n\n🕒 Race Day Schedule: \n\n\n2:00–3:00 PM – Registration & Practice: Hit the track\, dial in your lines\, and get warmed up! \n\n\n3:30 PM – Racing Kicks Off: Let the good times roll! \n\n\n5:30 PM (approx) – Racing Wraps Up: Time for fist bumps\, photos\, and a few well-earned snacks. \n\n\nBring your bike\, your helmet\, and your best racing spirit. It’s BMX Saturdays done right — fast\, fun\, and full of community vibes. 🚴‍♂️💨
URL:https://theburm.com/races/manchester-bmx-super-saturday-round-1/
LOCATION:Manchester BMX Club\, Platt Fields Park Platt Fields Park\, Fallowfield\, Manchester\, M14 6LA\, United Kingdom
CATEGORIES:Manchester BMX,North
ATTACH;FMTTYPE=image/png:https://theburm.com/wp-content/uploads/2025/04/Manchester-BMX-Club.png
ORGANIZER;CN="Manchester BMX Club":MAILTO:mbmxsec@gmail.com
END:VEVENT
END:VCALENDAR