BEGIN:VCALENDAR
VERSION:2.0
PRODID:-//The Burm - ECPv6.15.20//NONSGML v1.0//EN
CALSCALE:GREGORIAN
METHOD:PUBLISH
X-WR-CALNAME:The Burm
X-ORIGINAL-URL:https://theburm.com
X-WR-CALDESC:Events for The Burm
REFRESH-INTERVAL;VALUE=DURATION:PT1H
X-Robots-Tag:noindex
X-PUBLISHED-TTL:PT1H
BEGIN:VTIMEZONE
TZID:Europe/London
BEGIN:DAYLIGHT
TZOFFSETFROM:+0000
TZOFFSETTO:+0100
TZNAME:BST
DTSTART:20240331T010000
END:DAYLIGHT
BEGIN:STANDARD
TZOFFSETFROM:+0100
TZOFFSETTO:+0000
TZNAME:GMT
DTSTART:20241027T010000
END:STANDARD
BEGIN:DAYLIGHT
TZOFFSETFROM:+0000
TZOFFSETTO:+0100
TZNAME:BST
DTSTART:20250330T010000
END:DAYLIGHT
BEGIN:STANDARD
TZOFFSETFROM:+0100
TZOFFSETTO:+0000
TZNAME:GMT
DTSTART:20251026T010000
END:STANDARD
BEGIN:DAYLIGHT
TZOFFSETFROM:+0000
TZOFFSETTO:+0100
TZNAME:BST
DTSTART:20260329T010000
END:DAYLIGHT
BEGIN:STANDARD
TZOFFSETFROM:+0100
TZOFFSETTO:+0000
TZNAME:GMT
DTSTART:20261025T010000
END:STANDARD
END:VTIMEZONE
BEGIN:VEVENT
DTSTART;TZID=Europe/London:20250813T180000
DTEND;TZID=Europe/London:20250813T203000
DTSTAMP:20260421T120105
CREATED:20250506T234146Z
LAST-MODIFIED:20250506T234146Z
UID:10000158-1755108000-1755117000@theburm.com
SUMMARY:Braintree BMX 2025 Summer Series - Round 14
DESCRIPTION:Get ready to race under the summer skies! The Braintree BMX Summer Series is back and open to riders of all levels. Whether you’re chasing silverware or just after a fun evening on the track\, we’ve got the gate ready for you! \nRegistration – British Cycling\nUpdates – Facebook\nResults – Sqorz \n🗓 Event Format \n\n\n18:00 Track Opens & Practice Begins \n\n\n18:45 Sign-On Closes \n\n\n19:00 Racing Starts \n\n\n📍 Race Entry \n\n\nPre-register via the British Cycling website \n\n\nOr enter on the night (card payment only) \n\n\n📋 Race Formulas \n\n\nBraintree Elite: 15+ \n\n\nF2: 13–16 \n\n\nF3: 10–12 \n\n\nF4: 8–9 \n\n\nF5: 7 & under \n\n\nF6: Female 12 & under \n\n\nF7: Female 13–16 \n\n\nF8: Seniors 18+ \n\n\n📅 Race age = age you turn in 2025 \n🎟 Fees \n\n\nPre-reg: Members £5 + £1 admin | Non-members £9 + £1 admin \n\n\nOn the night: £10 (card only) \n\n\nBike hire: £5 per rider \n\n\nTransponders: Required – hire available for £5 + £20 refundable deposit \n\n\n🍔 Tuck Shop OpenGrab hot food\, cold drinks\, and snacks from Torsbeanie Café – perfect for riders and supporters! \n💬 Volunteers needed! No experience necessary – help us keep racing rolling strong. Keep an eye out for messages from Becky if you’d like to lend a hand!
URL:https://theburm.com/races/braintree-bmx-2025-summer-series-round-14/
LOCATION:Braintree BMX Club\, Braintree BMX Track\, Braintree \, Essex\, CM7 5TE\, United Kingdom
CATEGORIES:Braintree Bullets BMX,EA BMX
ATTACH;FMTTYPE=image/jpeg:https://theburm.com/wp-content/uploads/2025/05/Braintree-BMX-Club.jpg
ORGANIZER;CN="Braintree Bullets BMX":MAILTO:jen.cannons@gmail.com
END:VEVENT
BEGIN:VEVENT
DTSTART;TZID=Europe/London:20250806T180000
DTEND;TZID=Europe/London:20250806T203000
DTSTAMP:20260421T120105
CREATED:20250506T234053Z
LAST-MODIFIED:20250506T234053Z
UID:10000157-1754503200-1754512200@theburm.com
SUMMARY:Braintree BMX 2025 Summer Series - Round 13
DESCRIPTION:Get ready to race under the summer skies! The Braintree BMX Summer Series is back and open to riders of all levels. Whether you’re chasing silverware or just after a fun evening on the track\, we’ve got the gate ready for you! \nRegistration – British Cycling\nUpdates – Facebook\nResults – Sqorz \n🗓 Event Format \n\n\n18:00 Track Opens & Practice Begins \n\n\n18:45 Sign-On Closes \n\n\n19:00 Racing Starts \n\n\n📍 Race Entry \n\n\nPre-register via the British Cycling website \n\n\nOr enter on the night (card payment only) \n\n\n📋 Race Formulas \n\n\nBraintree Elite: 15+ \n\n\nF2: 13–16 \n\n\nF3: 10–12 \n\n\nF4: 8–9 \n\n\nF5: 7 & under \n\n\nF6: Female 12 & under \n\n\nF7: Female 13–16 \n\n\nF8: Seniors 18+ \n\n\n📅 Race age = age you turn in 2025 \n🎟 Fees \n\n\nPre-reg: Members £5 + £1 admin | Non-members £9 + £1 admin \n\n\nOn the night: £10 (card only) \n\n\nBike hire: £5 per rider \n\n\nTransponders: Required – hire available for £5 + £20 refundable deposit \n\n\n🍔 Tuck Shop OpenGrab hot food\, cold drinks\, and snacks from Torsbeanie Café – perfect for riders and supporters! \n💬 Volunteers needed! No experience necessary – help us keep racing rolling strong. Keep an eye out for messages from Becky if you’d like to lend a hand!
URL:https://theburm.com/races/braintree-bmx-2025-summer-series-round-13/
LOCATION:Braintree BMX Club\, Braintree BMX Track\, Braintree \, Essex\, CM7 5TE\, United Kingdom
CATEGORIES:Braintree Bullets BMX,EA BMX
ATTACH;FMTTYPE=image/jpeg:https://theburm.com/wp-content/uploads/2025/05/Braintree-BMX-Club.jpg
ORGANIZER;CN="Braintree Bullets BMX":MAILTO:jen.cannons@gmail.com
END:VEVENT
BEGIN:VEVENT
DTSTART;TZID=Europe/London:20250730T180000
DTEND;TZID=Europe/London:20250730T203000
DTSTAMP:20260421T120105
CREATED:20250506T234003Z
LAST-MODIFIED:20250506T234003Z
UID:10000156-1753898400-1753907400@theburm.com
SUMMARY:Braintree BMX 2025 Summer Series - Round 12
DESCRIPTION:Get ready to race under the summer skies! The Braintree BMX Summer Series is back and open to riders of all levels. Whether you’re chasing silverware or just after a fun evening on the track\, we’ve got the gate ready for you! \nRegistration – British Cycling\nUpdates – Facebook\nResults – Sqorz \n🗓 Event Format \n\n\n18:00 Track Opens & Practice Begins \n\n\n18:45 Sign-On Closes \n\n\n19:00 Racing Starts \n\n\n📍 Race Entry \n\n\nPre-register via the British Cycling website \n\n\nOr enter on the night (card payment only) \n\n\n📋 Race Formulas \n\n\nBraintree Elite: 15+ \n\n\nF2: 13–16 \n\n\nF3: 10–12 \n\n\nF4: 8–9 \n\n\nF5: 7 & under \n\n\nF6: Female 12 & under \n\n\nF7: Female 13–16 \n\n\nF8: Seniors 18+ \n\n\n📅 Race age = age you turn in 2025 \n🎟 Fees \n\n\nPre-reg: Members £5 + £1 admin | Non-members £9 + £1 admin \n\n\nOn the night: £10 (card only) \n\n\nBike hire: £5 per rider \n\n\nTransponders: Required – hire available for £5 + £20 refundable deposit \n\n\n🍔 Tuck Shop OpenGrab hot food\, cold drinks\, and snacks from Torsbeanie Café – perfect for riders and supporters! \n💬 Volunteers needed! No experience necessary – help us keep racing rolling strong. Keep an eye out for messages from Becky if you’d like to lend a hand!
URL:https://theburm.com/races/braintree-bmx-2025-summer-series-round-12/
LOCATION:Braintree BMX Club\, Braintree BMX Track\, Braintree \, Essex\, CM7 5TE\, United Kingdom
CATEGORIES:Braintree Bullets BMX,EA BMX
ATTACH;FMTTYPE=image/jpeg:https://theburm.com/wp-content/uploads/2025/05/Braintree-BMX-Club.jpg
ORGANIZER;CN="Braintree Bullets BMX":MAILTO:jen.cannons@gmail.com
END:VEVENT
BEGIN:VEVENT
DTSTART;TZID=Europe/London:20250723T180000
DTEND;TZID=Europe/London:20250723T203000
DTSTAMP:20260421T120105
CREATED:20250506T233908Z
LAST-MODIFIED:20250506T233919Z
UID:10000155-1753293600-1753302600@theburm.com
SUMMARY:Braintree BMX 2025 Summer Series - Round 11
DESCRIPTION:Get ready to race under the summer skies! The Braintree BMX Summer Series is back and open to riders of all levels. Whether you’re chasing silverware or just after a fun evening on the track\, we’ve got the gate ready for you! \nRegistration – British Cycling\nUpdates – Facebook\nResults – Sqorz \n🗓 Event Format \n\n\n18:00 Track Opens & Practice Begins \n\n\n18:45 Sign-On Closes \n\n\n19:00 Racing Starts \n\n\n📍 Race Entry \n\n\nPre-register via the British Cycling website \n\n\nOr enter on the night (card payment only) \n\n\n📋 Race Formulas \n\n\nBraintree Elite: 15+ \n\n\nF2: 13–16 \n\n\nF3: 10–12 \n\n\nF4: 8–9 \n\n\nF5: 7 & under \n\n\nF6: Female 12 & under \n\n\nF7: Female 13–16 \n\n\nF8: Seniors 18+ \n\n\n📅 Race age = age you turn in 2025 \n🎟 Fees \n\n\nPre-reg: Members £5 + £1 admin | Non-members £9 + £1 admin \n\n\nOn the night: £10 (card only) \n\n\nBike hire: £5 per rider \n\n\nTransponders: Required – hire available for £5 + £20 refundable deposit \n\n\n🍔 Tuck Shop OpenGrab hot food\, cold drinks\, and snacks from Torsbeanie Café – perfect for riders and supporters! \n💬 Volunteers needed! No experience necessary – help us keep racing rolling strong. Keep an eye out for messages from Becky if you’d like to lend a hand!
URL:https://theburm.com/races/braintree-bmx-2025-summer-series-round-11/
LOCATION:Braintree BMX Club\, Braintree BMX Track\, Braintree \, Essex\, CM7 5TE\, United Kingdom
CATEGORIES:Braintree Bullets BMX,EA BMX
ATTACH;FMTTYPE=image/jpeg:https://theburm.com/wp-content/uploads/2025/05/Braintree-BMX-Club.jpg
ORGANIZER;CN="Braintree Bullets BMX":MAILTO:jen.cannons@gmail.com
END:VEVENT
BEGIN:VEVENT
DTSTART;TZID=Europe/London:20250716T180000
DTEND;TZID=Europe/London:20250716T203000
DTSTAMP:20260421T120105
CREATED:20250506T233840Z
LAST-MODIFIED:20250506T233840Z
UID:10000154-1752688800-1752697800@theburm.com
SUMMARY:Braintree BMX 2025 Summer Series - Round 10
DESCRIPTION:Get ready to race under the summer skies! The Braintree BMX Summer Series is back and open to riders of all levels. Whether you’re chasing silverware or just after a fun evening on the track\, we’ve got the gate ready for you! \nRegistration – British Cycling\nUpdates – Facebook\nResults – Sqorz \n🗓 Event Format \n\n\n18:00 Track Opens & Practice Begins \n\n\n18:45 Sign-On Closes \n\n\n19:00 Racing Starts \n\n\n📍 Race Entry \n\n\nPre-register via the British Cycling website \n\n\nOr enter on the night (card payment only) \n\n\n📋 Race Formulas \n\n\nBraintree Elite: 15+ \n\n\nF2: 13–16 \n\n\nF3: 10–12 \n\n\nF4: 8–9 \n\n\nF5: 7 & under \n\n\nF6: Female 12 & under \n\n\nF7: Female 13–16 \n\n\nF8: Seniors 18+ \n\n\n📅 Race age = age you turn in 2025 \n🎟 Fees \n\n\nPre-reg: Members £5 + £1 admin | Non-members £9 + £1 admin \n\n\nOn the night: £10 (card only) \n\n\nBike hire: £5 per rider \n\n\nTransponders: Required – hire available for £5 + £20 refundable deposit \n\n\n🍔 Tuck Shop OpenGrab hot food\, cold drinks\, and snacks from Torsbeanie Café – perfect for riders and supporters! \n💬 Volunteers needed! No experience necessary – help us keep racing rolling strong. Keep an eye out for messages from Becky if you’d like to lend a hand!
URL:https://theburm.com/races/braintree-bmx-2025-summer-series-round-10/
LOCATION:Braintree BMX Club\, Braintree BMX Track\, Braintree \, Essex\, CM7 5TE\, United Kingdom
CATEGORIES:Braintree Bullets BMX,EA BMX
ATTACH;FMTTYPE=image/jpeg:https://theburm.com/wp-content/uploads/2025/05/Braintree-BMX-Club.jpg
ORGANIZER;CN="Braintree Bullets BMX":MAILTO:jen.cannons@gmail.com
END:VEVENT
BEGIN:VEVENT
DTSTART;TZID=Europe/London:20250709T180000
DTEND;TZID=Europe/London:20250709T203000
DTSTAMP:20260421T120105
CREATED:20250506T233721Z
LAST-MODIFIED:20250506T233749Z
UID:10000153-1752084000-1752093000@theburm.com
SUMMARY:Braintree BMX 2025 Summer Series - Round 9
DESCRIPTION:Get ready to race under the summer skies! The Braintree BMX Summer Series is back and open to riders of all levels. Whether you’re chasing silverware or just after a fun evening on the track\, we’ve got the gate ready for you! \nRegistration – British Cycling\nUpdates – Facebook\nResults – Sqorz \n🗓 Event Format \n\n\n18:00 Track Opens & Practice Begins \n\n\n18:45 Sign-On Closes \n\n\n19:00 Racing Starts \n\n\n📍 Race Entry \n\n\nPre-register via the British Cycling website \n\n\nOr enter on the night (card payment only) \n\n\n📋 Race Formulas \n\n\nBraintree Elite: 15+ \n\n\nF2: 13–16 \n\n\nF3: 10–12 \n\n\nF4: 8–9 \n\n\nF5: 7 & under \n\n\nF6: Female 12 & under \n\n\nF7: Female 13–16 \n\n\nF8: Seniors 18+ \n\n\n📅 Race age = age you turn in 2025 \n🎟 Fees \n\n\nPre-reg: Members £5 + £1 admin | Non-members £9 + £1 admin \n\n\nOn the night: £10 (card only) \n\n\nBike hire: £5 per rider \n\n\nTransponders: Required – hire available for £5 + £20 refundable deposit \n\n\n🍔 Tuck Shop OpenGrab hot food\, cold drinks\, and snacks from Torsbeanie Café – perfect for riders and supporters! \n💬 Volunteers needed! No experience necessary – help us keep racing rolling strong. Keep an eye out for messages from Becky if you’d like to lend a hand!
URL:https://theburm.com/races/braintree-bmx-2025-summer-series-round-9/
LOCATION:Braintree BMX Club\, Braintree BMX Track\, Braintree \, Essex\, CM7 5TE\, United Kingdom
CATEGORIES:Braintree Bullets BMX,EA BMX
ATTACH;FMTTYPE=image/jpeg:https://theburm.com/wp-content/uploads/2025/05/Braintree-BMX-Club.jpg
ORGANIZER;CN="Braintree Bullets BMX":MAILTO:jen.cannons@gmail.com
END:VEVENT
BEGIN:VEVENT
DTSTART;TZID=Europe/London:20250702T180000
DTEND;TZID=Europe/London:20250702T203000
DTSTAMP:20260421T120105
CREATED:20250506T233653Z
LAST-MODIFIED:20250506T233653Z
UID:10000152-1751479200-1751488200@theburm.com
SUMMARY:Braintree BMX 2025 Summer Series - Round 8
DESCRIPTION:Get ready to race under the summer skies! The Braintree BMX Summer Series is back and open to riders of all levels. Whether you’re chasing silverware or just after a fun evening on the track\, we’ve got the gate ready for you! \nRegistration – British Cycling\nUpdates – Facebook\nResults – Sqorz \n🗓 Event Format \n\n\n18:00 Track Opens & Practice Begins \n\n\n18:45 Sign-On Closes \n\n\n19:00 Racing Starts \n\n\n📍 Race Entry \n\n\nPre-register via the British Cycling website \n\n\nOr enter on the night (card payment only) \n\n\n📋 Race Formulas \n\n\nBraintree Elite: 15+ \n\n\nF2: 13–16 \n\n\nF3: 10–12 \n\n\nF4: 8–9 \n\n\nF5: 7 & under \n\n\nF6: Female 12 & under \n\n\nF7: Female 13–16 \n\n\nF8: Seniors 18+ \n\n\n📅 Race age = age you turn in 2025 \n🎟 Fees \n\n\nPre-reg: Members £5 + £1 admin | Non-members £9 + £1 admin \n\n\nOn the night: £10 (card only) \n\n\nBike hire: £5 per rider \n\n\nTransponders: Required – hire available for £5 + £20 refundable deposit \n\n\n🍔 Tuck Shop OpenGrab hot food\, cold drinks\, and snacks from Torsbeanie Café – perfect for riders and supporters! \n💬 Volunteers needed! No experience necessary – help us keep racing rolling strong. Keep an eye out for messages from Becky if you’d like to lend a hand!
URL:https://theburm.com/races/braintree-bmx-2025-summer-series-round-8/
LOCATION:Braintree BMX Club\, Braintree BMX Track\, Braintree \, Essex\, CM7 5TE\, United Kingdom
CATEGORIES:Braintree Bullets BMX,EA BMX
ATTACH;FMTTYPE=image/jpeg:https://theburm.com/wp-content/uploads/2025/05/Braintree-BMX-Club.jpg
ORGANIZER;CN="Braintree Bullets BMX":MAILTO:jen.cannons@gmail.com
END:VEVENT
BEGIN:VEVENT
DTSTART;TZID=Europe/London:20250625T180000
DTEND;TZID=Europe/London:20250625T203000
DTSTAMP:20260421T120105
CREATED:20250506T233554Z
LAST-MODIFIED:20250506T233604Z
UID:10000151-1750874400-1750883400@theburm.com
SUMMARY:Braintree BMX 2025 Summer Series - Round 7
DESCRIPTION:Get ready to race under the summer skies! The Braintree BMX Summer Series is back and open to riders of all levels. Whether you’re chasing silverware or just after a fun evening on the track\, we’ve got the gate ready for you! \nRegistration – British Cycling\nUpdates – Facebook\nResults – Sqorz \n🗓 Event Format \n\n\n18:00 Track Opens & Practice Begins \n\n\n18:45 Sign-On Closes \n\n\n19:00 Racing Starts \n\n\n📍 Race Entry \n\n\nPre-register via the British Cycling website \n\n\nOr enter on the night (card payment only) \n\n\n📋 Race Formulas \n\n\nBraintree Elite: 15+ \n\n\nF2: 13–16 \n\n\nF3: 10–12 \n\n\nF4: 8–9 \n\n\nF5: 7 & under \n\n\nF6: Female 12 & under \n\n\nF7: Female 13–16 \n\n\nF8: Seniors 18+ \n\n\n📅 Race age = age you turn in 2025 \n🎟 Fees \n\n\nPre-reg: Members £5 + £1 admin | Non-members £9 + £1 admin \n\n\nOn the night: £10 (card only) \n\n\nBike hire: £5 per rider \n\n\nTransponders: Required – hire available for £5 + £20 refundable deposit \n\n\n🍔 Tuck Shop OpenGrab hot food\, cold drinks\, and snacks from Torsbeanie Café – perfect for riders and supporters! \n💬 Volunteers needed! No experience necessary – help us keep racing rolling strong. Keep an eye out for messages from Becky if you’d like to lend a hand!
URL:https://theburm.com/races/braintree-bmx-2025-summer-series-round-7/
LOCATION:Braintree BMX Club\, Braintree BMX Track\, Braintree \, Essex\, CM7 5TE\, United Kingdom
CATEGORIES:Braintree Bullets BMX,EA BMX
ATTACH;FMTTYPE=image/jpeg:https://theburm.com/wp-content/uploads/2025/05/Braintree-BMX-Club.jpg
ORGANIZER;CN="Braintree Bullets BMX":MAILTO:jen.cannons@gmail.com
END:VEVENT
BEGIN:VEVENT
DTSTART;TZID=Europe/London:20250618T180000
DTEND;TZID=Europe/London:20250618T203000
DTSTAMP:20260421T120105
CREATED:20250506T233525Z
LAST-MODIFIED:20250506T233525Z
UID:10000150-1750269600-1750278600@theburm.com
SUMMARY:Braintree BMX 2025 Summer Series - Round 6
DESCRIPTION:Get ready to race under the summer skies! The Braintree BMX Summer Series is back and open to riders of all levels. Whether you’re chasing silverware or just after a fun evening on the track\, we’ve got the gate ready for you! \nRegistration – British Cycling\nUpdates – Facebook\nResults – Sqorz \n🗓 Event Format \n\n\n18:00 Track Opens & Practice Begins \n\n\n18:45 Sign-On Closes \n\n\n19:00 Racing Starts \n\n\n📍 Race Entry \n\n\nPre-register via the British Cycling website \n\n\nOr enter on the night (card payment only) \n\n\n📋 Race Formulas \n\n\nBraintree Elite: 15+ \n\n\nF2: 13–16 \n\n\nF3: 10–12 \n\n\nF4: 8–9 \n\n\nF5: 7 & under \n\n\nF6: Female 12 & under \n\n\nF7: Female 13–16 \n\n\nF8: Seniors 18+ \n\n\n📅 Race age = age you turn in 2025 \n🎟 Fees \n\n\nPre-reg: Members £5 + £1 admin | Non-members £9 + £1 admin \n\n\nOn the night: £10 (card only) \n\n\nBike hire: £5 per rider \n\n\nTransponders: Required – hire available for £5 + £20 refundable deposit \n\n\n🍔 Tuck Shop OpenGrab hot food\, cold drinks\, and snacks from Torsbeanie Café – perfect for riders and supporters! \n💬 Volunteers needed! No experience necessary – help us keep racing rolling strong. Keep an eye out for messages from Becky if you’d like to lend a hand!
URL:https://theburm.com/races/braintree-bmx-2025-summer-series-round-6/
LOCATION:Braintree BMX Club\, Braintree BMX Track\, Braintree \, Essex\, CM7 5TE\, United Kingdom
CATEGORIES:Braintree Bullets BMX,EA BMX
ATTACH;FMTTYPE=image/jpeg:https://theburm.com/wp-content/uploads/2025/05/Braintree-BMX-Club.jpg
ORGANIZER;CN="Braintree Bullets BMX":MAILTO:jen.cannons@gmail.com
END:VEVENT
BEGIN:VEVENT
DTSTART;TZID=Europe/London:20250611T180000
DTEND;TZID=Europe/London:20250611T203000
DTSTAMP:20260421T120105
CREATED:20250506T233335Z
LAST-MODIFIED:20250506T233335Z
UID:10000149-1749664800-1749673800@theburm.com
SUMMARY:Braintree BMX 2025 Summer Series - Round 5
DESCRIPTION:Get ready to race under the summer skies! The Braintree BMX Summer Series is back and open to riders of all levels. Whether you’re chasing silverware or just after a fun evening on the track\, we’ve got the gate ready for you! \nRegistration – British Cycling\nUpdates – Facebook\nResults – Sqorz \n🗓 Event Format \n\n\n18:00 Track Opens & Practice Begins \n\n\n18:45 Sign-On Closes \n\n\n19:00 Racing Starts \n\n\n📍 Race Entry \n\n\nPre-register via the British Cycling website \n\n\nOr enter on the night (card payment only) \n\n\n📋 Race Formulas \n\n\nBraintree Elite: 15+ \n\n\nF2: 13–16 \n\n\nF3: 10–12 \n\n\nF4: 8–9 \n\n\nF5: 7 & under \n\n\nF6: Female 12 & under \n\n\nF7: Female 13–16 \n\n\nF8: Seniors 18+ \n\n\n📅 Race age = age you turn in 2025 \n🎟 Fees \n\n\nPre-reg: Members £5 + £1 admin | Non-members £9 + £1 admin \n\n\nOn the night: £10 (card only) \n\n\nBike hire: £5 per rider \n\n\nTransponders: Required – hire available for £5 + £20 refundable deposit \n\n\n🍔 Tuck Shop OpenGrab hot food\, cold drinks\, and snacks from Torsbeanie Café – perfect for riders and supporters! \n💬 Volunteers needed! No experience necessary – help us keep racing rolling strong. Keep an eye out for messages from Becky if you’d like to lend a hand!
URL:https://theburm.com/races/braintree-bmx-2025-summer-series-round-5/
LOCATION:Braintree BMX Club\, Braintree BMX Track\, Braintree \, Essex\, CM7 5TE\, United Kingdom
CATEGORIES:Braintree Bullets BMX,EA BMX
ATTACH;FMTTYPE=image/jpeg:https://theburm.com/wp-content/uploads/2025/05/Braintree-BMX-Club.jpg
ORGANIZER;CN="Braintree Bullets BMX":MAILTO:jen.cannons@gmail.com
END:VEVENT
BEGIN:VEVENT
DTSTART;TZID=Europe/London:20250604T180000
DTEND;TZID=Europe/London:20250604T203000
DTSTAMP:20260421T120105
CREATED:20250506T233234Z
LAST-MODIFIED:20250506T233417Z
UID:10000148-1749060000-1749069000@theburm.com
SUMMARY:Braintree BMX 2025 Summer Series - Round 4
DESCRIPTION:Get ready to race under the summer skies! The Braintree BMX Summer Series is back and open to riders of all levels. Whether you’re chasing silverware or just after a fun evening on the track\, we’ve got the gate ready for you! \nRegistration – British Cycling\nUpdates – Facebook\nResults – Sqorz \n🗓 Event Format \n\n\n18:00 Track Opens & Practice Begins \n\n\n18:45 Sign-On Closes \n\n\n19:00 Racing Starts \n\n\n📍 Race Entry \n\n\nPre-register via the British Cycling website \n\n\nOr enter on the night (card payment only) \n\n\n📋 Race Formulas \n\n\nBraintree Elite: 15+ \n\n\nF2: 13–16 \n\n\nF3: 10–12 \n\n\nF4: 8–9 \n\n\nF5: 7 & under \n\n\nF6: Female 12 & under \n\n\nF7: Female 13–16 \n\n\nF8: Seniors 18+ \n\n\n📅 Race age = age you turn in 2025 \n🎟 Fees \n\n\nPre-reg: Members £5 + £1 admin | Non-members £9 + £1 admin \n\n\nOn the night: £10 (card only) \n\n\nBike hire: £5 per rider \n\n\nTransponders: Required – hire available for £5 + £20 refundable deposit \n\n\n🍔 Tuck Shop OpenGrab hot food\, cold drinks\, and snacks from Torsbeanie Café – perfect for riders and supporters! \n💬 Volunteers needed! No experience necessary – help us keep racing rolling strong. Keep an eye out for messages from Becky if you’d like to lend a hand!
URL:https://theburm.com/races/braintree-bmx-2025-summer-series-round-4/
LOCATION:Braintree BMX Club\, Braintree BMX Track\, Braintree \, Essex\, CM7 5TE\, United Kingdom
CATEGORIES:Braintree Bullets BMX,EA BMX
ATTACH;FMTTYPE=image/jpeg:https://theburm.com/wp-content/uploads/2025/05/Braintree-BMX-Club.jpg
ORGANIZER;CN="Braintree Bullets BMX":MAILTO:jen.cannons@gmail.com
END:VEVENT
BEGIN:VEVENT
DTSTART;TZID=Europe/London:20250528T180000
DTEND;TZID=Europe/London:20250528T203000
DTSTAMP:20260421T120105
CREATED:20250506T233152Z
LAST-MODIFIED:20250506T233211Z
UID:10000147-1748455200-1748464200@theburm.com
SUMMARY:Braintree BMX 2025 Summer Series - Round 3
DESCRIPTION:Get ready to race under the summer skies! The Braintree BMX Summer Series is back and open to riders of all levels. Whether you’re chasing silverware or just after a fun evening on the track\, we’ve got the gate ready for you! \nRegistration – British Cycling\nUpdates – Facebook\nResults – Sqorz \n🗓 Event Format \n\n\n18:00 Track Opens & Practice Begins \n\n\n18:45 Sign-On Closes \n\n\n19:00 Racing Starts \n\n\n📍 Race Entry \n\n\nPre-register via the British Cycling website \n\n\nOr enter on the night (card payment only) \n\n\n📋 Race Formulas \n\n\nBraintree Elite: 15+ \n\n\nF2: 13–16 \n\n\nF3: 10–12 \n\n\nF4: 8–9 \n\n\nF5: 7 & under \n\n\nF6: Female 12 & under \n\n\nF7: Female 13–16 \n\n\nF8: Seniors 18+ \n\n\n📅 Race age = age you turn in 2025 \n🎟 Fees \n\n\nPre-reg: Members £5 + £1 admin | Non-members £9 + £1 admin \n\n\nOn the night: £10 (card only) \n\n\nBike hire: £5 per rider \n\n\nTransponders: Required – hire available for £5 + £20 refundable deposit \n\n\n🍔 Tuck Shop OpenGrab hot food\, cold drinks\, and snacks from Torsbeanie Café – perfect for riders and supporters! \n💬 Volunteers needed! No experience necessary – help us keep racing rolling strong. Keep an eye out for messages from Becky if you’d like to lend a hand!
URL:https://theburm.com/races/braintree-bmx-2025-summer-series-round-3/
LOCATION:Braintree BMX Club\, Braintree BMX Track\, Braintree \, Essex\, CM7 5TE\, United Kingdom
CATEGORIES:Braintree Bullets BMX,EA BMX
ATTACH;FMTTYPE=image/jpeg:https://theburm.com/wp-content/uploads/2025/05/Braintree-BMX-Club.jpg
ORGANIZER;CN="Braintree Bullets BMX":MAILTO:jen.cannons@gmail.com
END:VEVENT
BEGIN:VEVENT
DTSTART;TZID=Europe/London:20250521T180000
DTEND;TZID=Europe/London:20250521T203000
DTSTAMP:20260421T120105
CREATED:20250506T233117Z
LAST-MODIFIED:20250506T233117Z
UID:10000146-1747850400-1747859400@theburm.com
SUMMARY:Braintree BMX 2025 Summer Series - Round 2
DESCRIPTION:Get ready to race under the summer skies! The Braintree BMX Summer Series is back and open to riders of all levels. Whether you’re chasing silverware or just after a fun evening on the track\, we’ve got the gate ready for you! \nRegistration – British Cycling\nUpdates – Facebook\nResults – Sqorz \n🗓 Event Format \n\n\n18:00 Track Opens & Practice Begins \n\n\n18:45 Sign-On Closes \n\n\n19:00 Racing Starts \n\n\n📍 Race Entry \n\n\nPre-register via the British Cycling website \n\n\nOr enter on the night (card payment only) \n\n\n📋 Race Formulas \n\n\nBraintree Elite: 15+ \n\n\nF2: 13–16 \n\n\nF3: 10–12 \n\n\nF4: 8–9 \n\n\nF5: 7 & under \n\n\nF6: Female 12 & under \n\n\nF7: Female 13–16 \n\n\nF8: Seniors 18+ \n\n\n📅 Race age = age you turn in 2025 \n🎟 Fees \n\n\nPre-reg: Members £5 + £1 admin | Non-members £9 + £1 admin \n\n\nOn the night: £10 (card only) \n\n\nBike hire: £5 per rider \n\n\nTransponders: Required – hire available for £5 + £20 refundable deposit \n\n\n🍔 Tuck Shop OpenGrab hot food\, cold drinks\, and snacks from Torsbeanie Café – perfect for riders and supporters! \n💬 Volunteers needed! No experience necessary – help us keep racing rolling strong. Keep an eye out for messages from Becky if you’d like to lend a hand!
URL:https://theburm.com/races/braintree-bmx-2025-summer-series-round-2/
LOCATION:Braintree BMX Club\, Braintree BMX Track\, Braintree \, Essex\, CM7 5TE\, United Kingdom
CATEGORIES:Braintree Bullets BMX,EA BMX
ATTACH;FMTTYPE=image/jpeg:https://theburm.com/wp-content/uploads/2025/05/Braintree-BMX-Club.jpg
ORGANIZER;CN="Braintree Bullets BMX":MAILTO:jen.cannons@gmail.com
END:VEVENT
BEGIN:VEVENT
DTSTART;TZID=Europe/London:20250514T180000
DTEND;TZID=Europe/London:20250514T203000
DTSTAMP:20260421T120105
CREATED:20250506T232312Z
LAST-MODIFIED:20250506T233041Z
UID:10000145-1747245600-1747254600@theburm.com
SUMMARY:Braintree BMX 2025 Summer Series - Round 1
DESCRIPTION:Get ready to race under the summer skies! The Braintree BMX Summer Series is back and open to riders of all levels. Whether you’re chasing silverware or just after a fun evening on the track\, we’ve got the gate ready for you! \nRegistration – British Cycling\nUpdates – Facebook\nResults – Sqorz \n🗓 Event Format \n\n\n18:00 Track Opens & Practice Begins \n\n\n18:45 Sign-On Closes \n\n\n19:00 Racing Starts \n\n\n📍 Race Entry \n\n\nPre-register via the British Cycling website \n\n\nOr enter on the night (card payment only) \n\n\n📋 Race Formulas \n\n\nBraintree Elite: 15+ \n\n\nF2: 13–16 \n\n\nF3: 10–12 \n\n\nF4: 8–9 \n\n\nF5: 7 & under \n\n\nF6: Female 12 & under \n\n\nF7: Female 13–16 \n\n\nF8: Seniors 18+ \n\n\n📅 Race age = age you turn in 2025 \n🎟 Fees \n\n\nPre-reg: Members £5 + £1 admin | Non-members £9 + £1 admin \n\n\nOn the night: £10 (card only) \n\n\nBike hire: £5 per rider \n\n\nTransponders: Required – hire available for £5 + £20 refundable deposit \n\n\n🍔 Tuck Shop OpenGrab hot food\, cold drinks\, and snacks from Torsbeanie Café – perfect for riders and supporters! \n💬 Volunteers needed! No experience necessary – help us keep racing rolling strong. Keep an eye out for messages from Becky if you’d like to lend a hand!
URL:https://theburm.com/races/braintree-bmx-2025-summer-series-round-1/
LOCATION:Braintree BMX Club\, Braintree BMX Track\, Braintree \, Essex\, CM7 5TE\, United Kingdom
CATEGORIES:Braintree Bullets BMX,EA BMX
ATTACH;FMTTYPE=image/jpeg:https://theburm.com/wp-content/uploads/2025/05/Braintree-BMX-Club.jpg
ORGANIZER;CN="Braintree Bullets BMX":MAILTO:jen.cannons@gmail.com
END:VEVENT
END:VCALENDAR