BEGIN:VCALENDAR
VERSION:2.0
PRODID:-//The Burm - ECPv6.15.20//NONSGML v1.0//EN
CALSCALE:GREGORIAN
METHOD:PUBLISH
X-WR-CALNAME:The Burm
X-ORIGINAL-URL:https://theburm.com
X-WR-CALDESC:Events for The Burm
REFRESH-INTERVAL;VALUE=DURATION:PT1H
X-Robots-Tag:noindex
X-PUBLISHED-TTL:PT1H
BEGIN:VTIMEZONE
TZID:Europe/London
BEGIN:DAYLIGHT
TZOFFSETFROM:+0000
TZOFFSETTO:+0100
TZNAME:BST
DTSTART:20240331T010000
END:DAYLIGHT
BEGIN:STANDARD
TZOFFSETFROM:+0100
TZOFFSETTO:+0000
TZNAME:GMT
DTSTART:20241027T010000
END:STANDARD
BEGIN:DAYLIGHT
TZOFFSETFROM:+0000
TZOFFSETTO:+0100
TZNAME:BST
DTSTART:20250330T010000
END:DAYLIGHT
BEGIN:STANDARD
TZOFFSETFROM:+0100
TZOFFSETTO:+0000
TZNAME:GMT
DTSTART:20251026T010000
END:STANDARD
BEGIN:DAYLIGHT
TZOFFSETFROM:+0000
TZOFFSETTO:+0100
TZNAME:BST
DTSTART:20260329T010000
END:DAYLIGHT
BEGIN:STANDARD
TZOFFSETFROM:+0100
TZOFFSETTO:+0000
TZNAME:GMT
DTSTART:20261025T010000
END:STANDARD
END:VTIMEZONE
BEGIN:VEVENT
DTSTART;TZID=Europe/London:20250813T173000
DTEND;TZID=Europe/London:20250813T200000
DTSTAMP:20260421T161743
CREATED:20250618T204825Z
LAST-MODIFIED:20250618T205236Z
UID:10000175-1755106200-1755115200@theburm.com
SUMMARY:Blackpool BMX Racing 2025 Summer Series - Round 4
DESCRIPTION:Blackpool BMX Racing Summer Series – Round 4\n\n\n\nREGISTER HERE\n\n\n\n\nFacebook Page for updates \nLink to Series \n\n\n\n\n📍 Stanley Park\, Blackpool📅 Wednesday 13th August 2025⏰ Practice: 5:30pm | Racing: ~6:30pm💷 £10 per rider🏆 3 from 4 rounds for a trophy📝 Pre-reg only – deadline Monday 8:00pm \n  \nGet ready for another high-energy night of racing as the Blackpool BMX Racing Summer Series 2025 continues on Wednesday\, August 13th at the legendary Stanley Park BMX Track. This popular summer series is the perfect way to keep your race skills sharp\, meet up with riders from across the region\, and enjoy some fast-paced midweek action. \nThis series is designed with flexibility in mind race any 3 of the 4 rounds to be in with a chance of winning a trophy. \nThe evening schedule kicks off with practice at 5:30pm\, giving riders a chance to dial in the track before racing begins. Sign-in and number collection will run from 5:30pm to 6:15pm\, and then it’s full throttle as racing gets underway at approximately 6:30pm. Be ready to race as soon as the motos are live! \nEntry is just £10 per rider\, making it an affordable and action-packed evening for families\, club riders\, and experienced racers alike. Whether you’re racing for the podium or just enjoying the atmosphere\, this is a fantastic chance to get on the gate and make your summer count. \nSo get the date in your diary\, polish up the bike\, and rally your race crew Wednesday\, August 13th is set to be another awesome night under the Blackpool skies. \nDon’t miss it—register now! \n\n\n\n\n\n\nPhotography by BMX Widow
URL:https://theburm.com/races/blackpool-bmx-2025-summer-series-round-4/
LOCATION:Blackpool BMX Club\, Blackpool BMX Club E Park Dr\, Blackpool\, FY3 9RB\, United Kingdom
CATEGORIES:Blackpool BMX,North
ATTACH;FMTTYPE=image/jpeg:https://theburm.com/wp-content/uploads/2025/06/Blackpool-BMX-Club-e1750278811815.jpg
END:VEVENT
BEGIN:VEVENT
DTSTART;TZID=Europe/London:20250730T173000
DTEND;TZID=Europe/London:20250730T200000
DTSTAMP:20260421T161743
CREATED:20250618T204250Z
LAST-MODIFIED:20250618T205241Z
UID:10000174-1753896600-1753905600@theburm.com
SUMMARY:Blackpool BMX Racing 2025 Summer Series - Round 3
DESCRIPTION:Blackpool BMX Summer Series – Round 3\n\n\n\nREGISTER HERE\n\n\n\n\nFacebook Page for updates \nLink to Series \n\n\n\n\nWednesday July 30th \n\n\n\nIt will be Pre-reg only and 3 rounds from 4 for a Trophy\n\n\nRegistration closes 8.00pm Monday before.\n\n\nPractice 5.30pm\n\n\nRegistration/Sign In 5-30pm-6.15pm\n\n\n\n\n\nRacing As Soon as possible 6.30pm approx\n\n\nGet the dates in your diary\n\n\n\n\n\n£10 Per Rider\n\n\n\n\n\nPhotography by BMX Widow
URL:https://theburm.com/races/blackpool-bmx-2025-summer-series-round-3/
LOCATION:Blackpool BMX Club\, Blackpool BMX Club E Park Dr\, Blackpool\, FY3 9RB\, United Kingdom
CATEGORIES:Blackpool BMX,North
ATTACH;FMTTYPE=image/jpeg:https://theburm.com/wp-content/uploads/2025/06/Blackpool-BMX-Club-e1750278811815.jpg
END:VEVENT
BEGIN:VEVENT
DTSTART;TZID=Europe/London:20250716T173000
DTEND;TZID=Europe/London:20250716T200000
DTSTAMP:20260421T161743
CREATED:20250618T204155Z
LAST-MODIFIED:20250618T205319Z
UID:10000173-1752687000-1752696000@theburm.com
SUMMARY:Blackpool BMX Racing 2025 Summer Series - Round 2
DESCRIPTION:Blackpool BMX Summer Series – Round 2\n\n\n\nREGISTER HERE\n\n\n\n\nFacebook Page for updates \nLink to Series \n\n\n\n\n\n\nIt will be Pre-reg only and 3 rounds from 4 for a Trophy\n\n\nRegistration closes 8.00pm Monday before.\n\n\nPractice 5.30pm\n\n\nRegistration/Sign In 5-30pm-6.15pm\n\n\n\n\n\nRacing As Soon as possible 6.30pm approx\n\n\nGet the dates in your diary\n\n\n\n\n\n£10 Per Rider\n\n\n\n\n\nPhotography by BMX Widow
URL:https://theburm.com/races/blackpool-bmx-2025-summer-series-round-2/
LOCATION:Blackpool BMX Club\, Blackpool BMX Club E Park Dr\, Blackpool\, FY3 9RB\, United Kingdom
CATEGORIES:Blackpool BMX,North
ATTACH;FMTTYPE=image/jpeg:https://theburm.com/wp-content/uploads/2025/06/Blackpool-BMX-Club-e1750278811815.jpg
END:VEVENT
BEGIN:VEVENT
DTSTART;TZID=Europe/London:20250702T173000
DTEND;TZID=Europe/London:20250702T200000
DTSTAMP:20260421T161743
CREATED:20250618T203546Z
LAST-MODIFIED:20250618T205541Z
UID:10000172-1751477400-1751486400@theburm.com
SUMMARY:Blackpool BMX Racing 2025 Summer Series - Round 1
DESCRIPTION:Blackpool BMX Summer Series\n\n\n\nREGISTER HERE\nFacebook Updates \n\n\n\n\nLink to Series \n\n\n\n📅 Blackpool BMX Summer Series – Round 1📍 Stanley Park\, Blackpool📆 Wednesday 2nd July⏰ Practice: 5:30pm | Racing: ~6:30pm💷 £10 per rider📸 Photos by BMX Widow \nWednesday 2nd July 2025\n\n\n\nGet ready for an exciting summer of BMX racing as the Blackpool BMX Summer Series rolls into Stanley Park\, one of the UK’s most iconic BMX venues. This thrilling local race series is open to riders of all levels and kicks off with Round 1 on Wednesday\, 2nd July. Whether you’re chasing podiums or simply enjoying the ride\, it’s the perfect midweek competition to keep your race legs sharp and your summer buzzing. \nThis year’s format is designed for maximum participation and excitement\, with three rounds from four counting towards the overall trophy—giving riders a fair shot even if they miss a round. Please note that this event is pre-registration only\, with registration closing strictly at 8:00pm on the Monday before each race. No entries will be taken on the day\, so be sure to register early to secure your spot on the gate. \nPractice begins at 5:30pm\, with sign-in and number collection open from 5:30pm to 6:15pm. Racing will start as soon as possible after 6:30pm\, so come prepped and ready to roll. Entry is just £10 per rider\, offering great value for an evening of racing in a friendly\, competitive environment. \nMark your calendars now\, gather your race kit\, and invite your teammates. This is more than just a race series—it’s a celebration of the local BMX scene. Whether you’re riding or spectating\, come and be part of the action. \nAnd don’t forget—BMX Widow Photography will be capturing all the racing moments. \nRegister now and get the dates in your diary!
URL:https://theburm.com/races/blackpool-bmx-summer-series-round-1/
LOCATION:Blackpool BMX Club\, Blackpool BMX Club E Park Dr\, Blackpool\, FY3 9RB\, United Kingdom
CATEGORIES:Blackpool BMX,North
ATTACH;FMTTYPE=image/jpeg:https://theburm.com/wp-content/uploads/2025/06/Blackpool-BMX-Club-e1750278811815.jpg
END:VEVENT
END:VCALENDAR